BEGIN:VCALENDAR
VERSION:2.0
PRODID:-//Keeper Of The Flame - ECPv6.15.20//NONSGML v1.0//EN
CALSCALE:GREGORIAN
METHOD:PUBLISH
X-ORIGINAL-URL:https://keeperoftheflame.com
X-WR-CALDESC:Events for Keeper Of The Flame
REFRESH-INTERVAL;VALUE=DURATION:PT1H
X-Robots-Tag:noindex
X-PUBLISHED-TTL:PT1H
BEGIN:VTIMEZONE
TZID:America/New_York
BEGIN:DAYLIGHT
TZOFFSETFROM:-0500
TZOFFSETTO:-0400
TZNAME:EDT
DTSTART:20210314T070000
END:DAYLIGHT
BEGIN:STANDARD
TZOFFSETFROM:-0400
TZOFFSETTO:-0500
TZNAME:EST
DTSTART:20211107T060000
END:STANDARD
BEGIN:DAYLIGHT
TZOFFSETFROM:-0500
TZOFFSETTO:-0400
TZNAME:EDT
DTSTART:20220313T070000
END:DAYLIGHT
BEGIN:STANDARD
TZOFFSETFROM:-0400
TZOFFSETTO:-0500
TZNAME:EST
DTSTART:20221106T060000
END:STANDARD
BEGIN:DAYLIGHT
TZOFFSETFROM:-0500
TZOFFSETTO:-0400
TZNAME:EDT
DTSTART:20230312T070000
END:DAYLIGHT
BEGIN:STANDARD
TZOFFSETFROM:-0400
TZOFFSETTO:-0500
TZNAME:EST
DTSTART:20231105T060000
END:STANDARD
END:VTIMEZONE
BEGIN:VEVENT
DTSTART;TZID=America/New_York:20221103T170000
DTEND;TZID=America/New_York:20221103T230000
DTSTAMP:20260419T223945
CREATED:20220815T211244Z
LAST-MODIFIED:20220815T211244Z
UID:2635-1667494800-1667516400@keeperoftheflame.com
SUMMARY:Thirsty Thursdays
DESCRIPTION:$2 Draft Beers All Night
URL:https://keeperoftheflame.com/event/thirsty-thursdays-2022-11-03/
CATEGORIES:promotions
ATTACH;FMTTYPE=image/jpeg:https://keeperoftheflame.com/wp-content/uploads/2022/04/josh-olalde-Ygu9Qx309s-unsplash.jpg
END:VEVENT
BEGIN:VEVENT
DTSTART;TZID=America/New_York:20221106T170000
DTEND;TZID=America/New_York:20221106T230000
DTSTAMP:20260419T223945
CREATED:20220721T025110Z
LAST-MODIFIED:20220721T025110Z
UID:2820-1667754000-1667775600@keeperoftheflame.com
SUMMARY:Game Day On DirecTV
DESCRIPTION:Spend Game Day At The Bar
URL:https://keeperoftheflame.com/event/game-day-2-2022-11-06/
LOCATION:Keeper Of The Flame\, 2750 Conrad Ridge Road\, Holladay\, TN\, 38341\, United States
CATEGORIES:Sports
ATTACH;FMTTYPE=image/jpeg:https://keeperoftheflame.com/wp-content/uploads/2022/07/sports-package.jpg
END:VEVENT
BEGIN:VEVENT
DTSTART;TZID=America/New_York:20221107T170000
DTEND;TZID=America/New_York:20221107T230000
DTSTAMP:20260419T223945
CREATED:20220721T025110Z
LAST-MODIFIED:20220721T025110Z
UID:2821-1667840400-1667862000@keeperoftheflame.com
SUMMARY:Game Day On DirecTV
DESCRIPTION:Spend Game Day At The Bar
URL:https://keeperoftheflame.com/event/game-day-2-2022-11-07/
LOCATION:Keeper Of The Flame\, 2750 Conrad Ridge Road\, Holladay\, TN\, 38341\, United States
CATEGORIES:Sports
ATTACH;FMTTYPE=image/jpeg:https://keeperoftheflame.com/wp-content/uploads/2022/07/sports-package.jpg
END:VEVENT
BEGIN:VEVENT
DTSTART;TZID=America/New_York:20221107T170000
DTEND;TZID=America/New_York:20221107T230000
DTSTAMP:20260419T223945
CREATED:20220815T212125Z
LAST-MODIFIED:20220815T212125Z
UID:2719-1667840400-1667862000@keeperoftheflame.com
SUMMARY:Open Mic Mondays
DESCRIPTION:$2 Natty’s & Busch Beer from 5-7pm
URL:https://keeperoftheflame.com/event/open-mic-mondays-2022-11-07/
CATEGORIES:promotions
ATTACH;FMTTYPE=image/jpeg:https://keeperoftheflame.com/wp-content/uploads/2022/08/open-mic-1.jpeg
END:VEVENT
BEGIN:VEVENT
DTSTART;TZID=America/New_York:20221110T170000
DTEND;TZID=America/New_York:20221110T230000
DTSTAMP:20260419T223945
CREATED:20220815T211244Z
LAST-MODIFIED:20220815T211244Z
UID:2636-1668099600-1668121200@keeperoftheflame.com
SUMMARY:Thirsty Thursdays
DESCRIPTION:$2 Draft Beers All Night
URL:https://keeperoftheflame.com/event/thirsty-thursdays-2022-11-10/
CATEGORIES:promotions
ATTACH;FMTTYPE=image/jpeg:https://keeperoftheflame.com/wp-content/uploads/2022/04/josh-olalde-Ygu9Qx309s-unsplash.jpg
END:VEVENT
BEGIN:VEVENT
DTSTART;TZID=America/New_York:20221113T170000
DTEND;TZID=America/New_York:20221113T230000
DTSTAMP:20260419T223945
CREATED:20220721T025110Z
LAST-MODIFIED:20220721T025110Z
UID:2822-1668358800-1668380400@keeperoftheflame.com
SUMMARY:Game Day On DirecTV
DESCRIPTION:Spend Game Day At The Bar
URL:https://keeperoftheflame.com/event/game-day-2-2022-11-13/
LOCATION:Keeper Of The Flame\, 2750 Conrad Ridge Road\, Holladay\, TN\, 38341\, United States
CATEGORIES:Sports
ATTACH;FMTTYPE=image/jpeg:https://keeperoftheflame.com/wp-content/uploads/2022/07/sports-package.jpg
END:VEVENT
BEGIN:VEVENT
DTSTART;TZID=America/New_York:20221114T170000
DTEND;TZID=America/New_York:20221114T230000
DTSTAMP:20260419T223945
CREATED:20220721T025110Z
LAST-MODIFIED:20220721T025110Z
UID:2823-1668445200-1668466800@keeperoftheflame.com
SUMMARY:Game Day On DirecTV
DESCRIPTION:Spend Game Day At The Bar
URL:https://keeperoftheflame.com/event/game-day-2-2022-11-14/
LOCATION:Keeper Of The Flame\, 2750 Conrad Ridge Road\, Holladay\, TN\, 38341\, United States
CATEGORIES:Sports
ATTACH;FMTTYPE=image/jpeg:https://keeperoftheflame.com/wp-content/uploads/2022/07/sports-package.jpg
END:VEVENT
BEGIN:VEVENT
DTSTART;TZID=America/New_York:20221114T170000
DTEND;TZID=America/New_York:20221114T230000
DTSTAMP:20260419T223945
CREATED:20220815T212125Z
LAST-MODIFIED:20220815T212125Z
UID:2720-1668445200-1668466800@keeperoftheflame.com
SUMMARY:Open Mic Mondays
DESCRIPTION:$2 Natty’s & Busch Beer from 5-7pm
URL:https://keeperoftheflame.com/event/open-mic-mondays-2022-11-14/
CATEGORIES:promotions
ATTACH;FMTTYPE=image/jpeg:https://keeperoftheflame.com/wp-content/uploads/2022/08/open-mic-1.jpeg
END:VEVENT
BEGIN:VEVENT
DTSTART;TZID=America/New_York:20221117T170000
DTEND;TZID=America/New_York:20221117T230000
DTSTAMP:20260419T223945
CREATED:20220815T211244Z
LAST-MODIFIED:20220815T211244Z
UID:2637-1668704400-1668726000@keeperoftheflame.com
SUMMARY:Thirsty Thursdays
DESCRIPTION:$2 Draft Beers All Night
URL:https://keeperoftheflame.com/event/thirsty-thursdays-2022-11-17/
CATEGORIES:promotions
ATTACH;FMTTYPE=image/jpeg:https://keeperoftheflame.com/wp-content/uploads/2022/04/josh-olalde-Ygu9Qx309s-unsplash.jpg
END:VEVENT
BEGIN:VEVENT
DTSTART;TZID=America/New_York:20221119T190000
DTEND;TZID=America/New_York:20221119T220000
DTSTAMP:20260419T223945
CREATED:20220901T163955Z
LAST-MODIFIED:20220901T163958Z
UID:2954-1668884400-1668895200@keeperoftheflame.com
SUMMARY:Jack Byron
DESCRIPTION:
URL:https://keeperoftheflame.com/event/jack-byron-2/
CATEGORIES:LIve Music
ATTACH;FMTTYPE=image/jpeg:https://keeperoftheflame.com/wp-content/uploads/2022/07/Jack-Byron.jpg
END:VEVENT
BEGIN:VEVENT
DTSTART;TZID=America/New_York:20221120T170000
DTEND;TZID=America/New_York:20221120T230000
DTSTAMP:20260419T223945
CREATED:20220721T025110Z
LAST-MODIFIED:20220721T025110Z
UID:2824-1668963600-1668985200@keeperoftheflame.com
SUMMARY:Game Day On DirecTV
DESCRIPTION:Spend Game Day At The Bar
URL:https://keeperoftheflame.com/event/game-day-2-2022-11-20/
LOCATION:Keeper Of The Flame\, 2750 Conrad Ridge Road\, Holladay\, TN\, 38341\, United States
CATEGORIES:Sports
ATTACH;FMTTYPE=image/jpeg:https://keeperoftheflame.com/wp-content/uploads/2022/07/sports-package.jpg
END:VEVENT
BEGIN:VEVENT
DTSTART;TZID=America/New_York:20221121T170000
DTEND;TZID=America/New_York:20221121T230000
DTSTAMP:20260419T223945
CREATED:20220721T025110Z
LAST-MODIFIED:20220721T025110Z
UID:2825-1669050000-1669071600@keeperoftheflame.com
SUMMARY:Game Day On DirecTV
DESCRIPTION:Spend Game Day At The Bar
URL:https://keeperoftheflame.com/event/game-day-2-2022-11-21/
LOCATION:Keeper Of The Flame\, 2750 Conrad Ridge Road\, Holladay\, TN\, 38341\, United States
CATEGORIES:Sports
ATTACH;FMTTYPE=image/jpeg:https://keeperoftheflame.com/wp-content/uploads/2022/07/sports-package.jpg
END:VEVENT
BEGIN:VEVENT
DTSTART;TZID=America/New_York:20221121T170000
DTEND;TZID=America/New_York:20221121T230000
DTSTAMP:20260419T223945
CREATED:20220815T212125Z
LAST-MODIFIED:20220815T212125Z
UID:2721-1669050000-1669071600@keeperoftheflame.com
SUMMARY:Open Mic Mondays
DESCRIPTION:$2 Natty’s & Busch Beer from 5-7pm
URL:https://keeperoftheflame.com/event/open-mic-mondays-2022-11-21/
CATEGORIES:promotions
ATTACH;FMTTYPE=image/jpeg:https://keeperoftheflame.com/wp-content/uploads/2022/08/open-mic-1.jpeg
END:VEVENT
BEGIN:VEVENT
DTSTART;TZID=America/New_York:20221124T170000
DTEND;TZID=America/New_York:20221124T230000
DTSTAMP:20260419T223945
CREATED:20220815T211244Z
LAST-MODIFIED:20220815T211244Z
UID:2638-1669309200-1669330800@keeperoftheflame.com
SUMMARY:Thirsty Thursdays
DESCRIPTION:$2 Draft Beers All Night
URL:https://keeperoftheflame.com/event/thirsty-thursdays-2022-11-24/
CATEGORIES:promotions
ATTACH;FMTTYPE=image/jpeg:https://keeperoftheflame.com/wp-content/uploads/2022/04/josh-olalde-Ygu9Qx309s-unsplash.jpg
END:VEVENT
BEGIN:VEVENT
DTSTART;TZID=America/New_York:20221127T170000
DTEND;TZID=America/New_York:20221127T230000
DTSTAMP:20260419T223945
CREATED:20220721T025110Z
LAST-MODIFIED:20220721T025110Z
UID:2826-1669568400-1669590000@keeperoftheflame.com
SUMMARY:Game Day On DirecTV
DESCRIPTION:Spend Game Day At The Bar
URL:https://keeperoftheflame.com/event/game-day-2-2022-11-27/
LOCATION:Keeper Of The Flame\, 2750 Conrad Ridge Road\, Holladay\, TN\, 38341\, United States
CATEGORIES:Sports
ATTACH;FMTTYPE=image/jpeg:https://keeperoftheflame.com/wp-content/uploads/2022/07/sports-package.jpg
END:VEVENT
BEGIN:VEVENT
DTSTART;TZID=America/New_York:20221128T170000
DTEND;TZID=America/New_York:20221128T230000
DTSTAMP:20260419T223945
CREATED:20220721T025110Z
LAST-MODIFIED:20220721T025110Z
UID:2827-1669654800-1669676400@keeperoftheflame.com
SUMMARY:Game Day On DirecTV
DESCRIPTION:Spend Game Day At The Bar
URL:https://keeperoftheflame.com/event/game-day-2-2022-11-28/
LOCATION:Keeper Of The Flame\, 2750 Conrad Ridge Road\, Holladay\, TN\, 38341\, United States
CATEGORIES:Sports
ATTACH;FMTTYPE=image/jpeg:https://keeperoftheflame.com/wp-content/uploads/2022/07/sports-package.jpg
END:VEVENT
BEGIN:VEVENT
DTSTART;TZID=America/New_York:20221128T170000
DTEND;TZID=America/New_York:20221128T230000
DTSTAMP:20260419T223945
CREATED:20220815T212125Z
LAST-MODIFIED:20220815T212125Z
UID:2722-1669654800-1669676400@keeperoftheflame.com
SUMMARY:Open Mic Mondays
DESCRIPTION:$2 Natty’s & Busch Beer from 5-7pm
URL:https://keeperoftheflame.com/event/open-mic-mondays-2022-11-28/
CATEGORIES:promotions
ATTACH;FMTTYPE=image/jpeg:https://keeperoftheflame.com/wp-content/uploads/2022/08/open-mic-1.jpeg
END:VEVENT
END:VCALENDAR