BEGIN:VCALENDAR
VERSION:2.0
PRODID:-//Keeper Of The Flame - ECPv6.15.20//NONSGML v1.0//EN
CALSCALE:GREGORIAN
METHOD:PUBLISH
X-WR-CALNAME:Keeper Of The Flame
X-ORIGINAL-URL:https://keeperoftheflame.com
X-WR-CALDESC:Events for Keeper Of The Flame
REFRESH-INTERVAL;VALUE=DURATION:PT1H
X-Robots-Tag:noindex
X-PUBLISHED-TTL:PT1H
BEGIN:VTIMEZONE
TZID:America/New_York
BEGIN:DAYLIGHT
TZOFFSETFROM:-0500
TZOFFSETTO:-0400
TZNAME:EDT
DTSTART:20240310T070000
END:DAYLIGHT
BEGIN:STANDARD
TZOFFSETFROM:-0400
TZOFFSETTO:-0500
TZNAME:EST
DTSTART:20241103T060000
END:STANDARD
BEGIN:DAYLIGHT
TZOFFSETFROM:-0500
TZOFFSETTO:-0400
TZNAME:EDT
DTSTART:20250309T070000
END:DAYLIGHT
BEGIN:STANDARD
TZOFFSETFROM:-0400
TZOFFSETTO:-0500
TZNAME:EST
DTSTART:20251102T060000
END:STANDARD
BEGIN:DAYLIGHT
TZOFFSETFROM:-0500
TZOFFSETTO:-0400
TZNAME:EDT
DTSTART:20260308T070000
END:DAYLIGHT
BEGIN:STANDARD
TZOFFSETFROM:-0400
TZOFFSETTO:-0500
TZNAME:EST
DTSTART:20261101T060000
END:STANDARD
END:VTIMEZONE
BEGIN:VEVENT
DTSTART;TZID=America/New_York:20250908T170000
DTEND;TZID=America/New_York:20250908T230000
DTSTAMP:20260423T182322
CREATED:20220815T212125Z
LAST-MODIFIED:20220815T212125Z
UID:3176-1757350800-1757372400@keeperoftheflame.com
SUMMARY:Open Mic Mondays
DESCRIPTION:$2 Natty’s & Busch Beer from 5-7pm
URL:https://keeperoftheflame.com/event/open-mic-mondays-2025-09-08/
CATEGORIES:promotions
ATTACH;FMTTYPE=image/jpeg:https://keeperoftheflame.com/wp-content/uploads/2022/08/open-mic-1.jpeg
END:VEVENT
BEGIN:VEVENT
DTSTART;TZID=America/New_York:20250911T170000
DTEND;TZID=America/New_York:20250911T230000
DTSTAMP:20260423T182322
CREATED:20220815T211244Z
LAST-MODIFIED:20220815T211244Z
UID:3178-1757610000-1757631600@keeperoftheflame.com
SUMMARY:Thirsty Thursdays
DESCRIPTION:$2 Draft Beers All Night
URL:https://keeperoftheflame.com/event/thirsty-thursdays-2025-09-11/
CATEGORIES:promotions
ATTACH;FMTTYPE=image/jpeg:https://keeperoftheflame.com/wp-content/uploads/2022/04/josh-olalde-Ygu9Qx309s-unsplash.jpg
END:VEVENT
BEGIN:VEVENT
DTSTART;TZID=America/New_York:20250914T170000
DTEND;TZID=America/New_York:20250914T230000
DTSTAMP:20260423T182322
CREATED:20220721T025110Z
LAST-MODIFIED:20220721T025110Z
UID:3179-1757869200-1757890800@keeperoftheflame.com
SUMMARY:Game Day On DirecTV
DESCRIPTION:Spend Game Day At The Bar
URL:https://keeperoftheflame.com/event/game-day-2-2025-09-14/
LOCATION:Keeper Of The Flame\, 2750 Conrad Ridge Road\, Holladay\, TN\, 38341\, United States
CATEGORIES:Sports
ATTACH;FMTTYPE=image/jpeg:https://keeperoftheflame.com/wp-content/uploads/2022/07/sports-package.jpg
END:VEVENT
BEGIN:VEVENT
DTSTART;TZID=America/New_York:20250915T170000
DTEND;TZID=America/New_York:20250915T230000
DTSTAMP:20260423T182322
CREATED:20220721T025110Z
LAST-MODIFIED:20220721T025110Z
UID:3181-1757955600-1757977200@keeperoftheflame.com
SUMMARY:Game Day On DirecTV
DESCRIPTION:Spend Game Day At The Bar
URL:https://keeperoftheflame.com/event/game-day-2-2025-09-15/
LOCATION:Keeper Of The Flame\, 2750 Conrad Ridge Road\, Holladay\, TN\, 38341\, United States
CATEGORIES:Sports
ATTACH;FMTTYPE=image/jpeg:https://keeperoftheflame.com/wp-content/uploads/2022/07/sports-package.jpg
END:VEVENT
BEGIN:VEVENT
DTSTART;TZID=America/New_York:20250915T170000
DTEND;TZID=America/New_York:20250915T230000
DTSTAMP:20260423T182322
CREATED:20220815T212125Z
LAST-MODIFIED:20220815T212125Z
UID:3180-1757955600-1757977200@keeperoftheflame.com
SUMMARY:Open Mic Mondays
DESCRIPTION:$2 Natty’s & Busch Beer from 5-7pm
URL:https://keeperoftheflame.com/event/open-mic-mondays-2025-09-15/
CATEGORIES:promotions
ATTACH;FMTTYPE=image/jpeg:https://keeperoftheflame.com/wp-content/uploads/2022/08/open-mic-1.jpeg
END:VEVENT
BEGIN:VEVENT
DTSTART;TZID=America/New_York:20250918T170000
DTEND;TZID=America/New_York:20250918T230000
DTSTAMP:20260423T182322
CREATED:20220815T211244Z
LAST-MODIFIED:20220815T211244Z
UID:3182-1758214800-1758236400@keeperoftheflame.com
SUMMARY:Thirsty Thursdays
DESCRIPTION:$2 Draft Beers All Night
URL:https://keeperoftheflame.com/event/thirsty-thursdays-2025-09-18/
CATEGORIES:promotions
ATTACH;FMTTYPE=image/jpeg:https://keeperoftheflame.com/wp-content/uploads/2022/04/josh-olalde-Ygu9Qx309s-unsplash.jpg
END:VEVENT
BEGIN:VEVENT
DTSTART;TZID=America/New_York:20250921T170000
DTEND;TZID=America/New_York:20250921T230000
DTSTAMP:20260423T182322
CREATED:20220721T025110Z
LAST-MODIFIED:20220721T025110Z
UID:3183-1758474000-1758495600@keeperoftheflame.com
SUMMARY:Game Day On DirecTV
DESCRIPTION:Spend Game Day At The Bar
URL:https://keeperoftheflame.com/event/game-day-2-2025-09-21/
LOCATION:Keeper Of The Flame\, 2750 Conrad Ridge Road\, Holladay\, TN\, 38341\, United States
CATEGORIES:Sports
ATTACH;FMTTYPE=image/jpeg:https://keeperoftheflame.com/wp-content/uploads/2022/07/sports-package.jpg
END:VEVENT
BEGIN:VEVENT
DTSTART;TZID=America/New_York:20250922T170000
DTEND;TZID=America/New_York:20250922T230000
DTSTAMP:20260423T182322
CREATED:20220721T025110Z
LAST-MODIFIED:20220721T025110Z
UID:3185-1758560400-1758582000@keeperoftheflame.com
SUMMARY:Game Day On DirecTV
DESCRIPTION:Spend Game Day At The Bar
URL:https://keeperoftheflame.com/event/game-day-2-2025-09-22/
LOCATION:Keeper Of The Flame\, 2750 Conrad Ridge Road\, Holladay\, TN\, 38341\, United States
CATEGORIES:Sports
ATTACH;FMTTYPE=image/jpeg:https://keeperoftheflame.com/wp-content/uploads/2022/07/sports-package.jpg
END:VEVENT
BEGIN:VEVENT
DTSTART;TZID=America/New_York:20250922T170000
DTEND;TZID=America/New_York:20250922T230000
DTSTAMP:20260423T182322
CREATED:20220815T212125Z
LAST-MODIFIED:20220815T212125Z
UID:3184-1758560400-1758582000@keeperoftheflame.com
SUMMARY:Open Mic Mondays
DESCRIPTION:$2 Natty’s & Busch Beer from 5-7pm
URL:https://keeperoftheflame.com/event/open-mic-mondays-2025-09-22/
CATEGORIES:promotions
ATTACH;FMTTYPE=image/jpeg:https://keeperoftheflame.com/wp-content/uploads/2022/08/open-mic-1.jpeg
END:VEVENT
BEGIN:VEVENT
DTSTART;TZID=America/New_York:20250925T170000
DTEND;TZID=America/New_York:20250925T230000
DTSTAMP:20260423T182322
CREATED:20220815T211244Z
LAST-MODIFIED:20220815T211244Z
UID:3186-1758819600-1758841200@keeperoftheflame.com
SUMMARY:Thirsty Thursdays
DESCRIPTION:$2 Draft Beers All Night
URL:https://keeperoftheflame.com/event/thirsty-thursdays-2025-09-25/
CATEGORIES:promotions
ATTACH;FMTTYPE=image/jpeg:https://keeperoftheflame.com/wp-content/uploads/2022/04/josh-olalde-Ygu9Qx309s-unsplash.jpg
END:VEVENT
BEGIN:VEVENT
DTSTART;TZID=America/New_York:20250928T170000
DTEND;TZID=America/New_York:20250928T230000
DTSTAMP:20260423T182322
CREATED:20220721T025110Z
LAST-MODIFIED:20220721T025110Z
UID:3187-1759078800-1759100400@keeperoftheflame.com
SUMMARY:Game Day On DirecTV
DESCRIPTION:Spend Game Day At The Bar
URL:https://keeperoftheflame.com/event/game-day-2-2025-09-28/
LOCATION:Keeper Of The Flame\, 2750 Conrad Ridge Road\, Holladay\, TN\, 38341\, United States
CATEGORIES:Sports
ATTACH;FMTTYPE=image/jpeg:https://keeperoftheflame.com/wp-content/uploads/2022/07/sports-package.jpg
END:VEVENT
BEGIN:VEVENT
DTSTART;TZID=America/New_York:20250929T170000
DTEND;TZID=America/New_York:20250929T230000
DTSTAMP:20260423T182322
CREATED:20220721T025110Z
LAST-MODIFIED:20220721T025110Z
UID:3189-1759165200-1759186800@keeperoftheflame.com
SUMMARY:Game Day On DirecTV
DESCRIPTION:Spend Game Day At The Bar
URL:https://keeperoftheflame.com/event/game-day-2-2025-09-29/
LOCATION:Keeper Of The Flame\, 2750 Conrad Ridge Road\, Holladay\, TN\, 38341\, United States
CATEGORIES:Sports
ATTACH;FMTTYPE=image/jpeg:https://keeperoftheflame.com/wp-content/uploads/2022/07/sports-package.jpg
END:VEVENT
BEGIN:VEVENT
DTSTART;TZID=America/New_York:20250929T170000
DTEND;TZID=America/New_York:20250929T230000
DTSTAMP:20260423T182322
CREATED:20220815T212125Z
LAST-MODIFIED:20220815T212125Z
UID:3188-1759165200-1759186800@keeperoftheflame.com
SUMMARY:Open Mic Mondays
DESCRIPTION:$2 Natty’s & Busch Beer from 5-7pm
URL:https://keeperoftheflame.com/event/open-mic-mondays-2025-09-29/
CATEGORIES:promotions
ATTACH;FMTTYPE=image/jpeg:https://keeperoftheflame.com/wp-content/uploads/2022/08/open-mic-1.jpeg
END:VEVENT
BEGIN:VEVENT
DTSTART;TZID=America/New_York:20251002T170000
DTEND;TZID=America/New_York:20251002T230000
DTSTAMP:20260423T182322
CREATED:20220815T211244Z
LAST-MODIFIED:20220815T211244Z
UID:3190-1759424400-1759446000@keeperoftheflame.com
SUMMARY:Thirsty Thursdays
DESCRIPTION:$2 Draft Beers All Night
URL:https://keeperoftheflame.com/event/thirsty-thursdays-2025-10-02/
CATEGORIES:promotions
ATTACH;FMTTYPE=image/jpeg:https://keeperoftheflame.com/wp-content/uploads/2022/04/josh-olalde-Ygu9Qx309s-unsplash.jpg
END:VEVENT
BEGIN:VEVENT
DTSTART;TZID=America/New_York:20251005T170000
DTEND;TZID=America/New_York:20251005T230000
DTSTAMP:20260423T182322
CREATED:20220721T025110Z
LAST-MODIFIED:20220721T025110Z
UID:3191-1759683600-1759705200@keeperoftheflame.com
SUMMARY:Game Day On DirecTV
DESCRIPTION:Spend Game Day At The Bar
URL:https://keeperoftheflame.com/event/game-day-2-2025-10-05/
LOCATION:Keeper Of The Flame\, 2750 Conrad Ridge Road\, Holladay\, TN\, 38341\, United States
CATEGORIES:Sports
ATTACH;FMTTYPE=image/jpeg:https://keeperoftheflame.com/wp-content/uploads/2022/07/sports-package.jpg
END:VEVENT
BEGIN:VEVENT
DTSTART;TZID=America/New_York:20251006T170000
DTEND;TZID=America/New_York:20251006T230000
DTSTAMP:20260423T182322
CREATED:20220721T025110Z
LAST-MODIFIED:20220721T025110Z
UID:3193-1759770000-1759791600@keeperoftheflame.com
SUMMARY:Game Day On DirecTV
DESCRIPTION:Spend Game Day At The Bar
URL:https://keeperoftheflame.com/event/game-day-2-2025-10-06/
LOCATION:Keeper Of The Flame\, 2750 Conrad Ridge Road\, Holladay\, TN\, 38341\, United States
CATEGORIES:Sports
ATTACH;FMTTYPE=image/jpeg:https://keeperoftheflame.com/wp-content/uploads/2022/07/sports-package.jpg
END:VEVENT
BEGIN:VEVENT
DTSTART;TZID=America/New_York:20251006T170000
DTEND;TZID=America/New_York:20251006T230000
DTSTAMP:20260423T182322
CREATED:20220815T212125Z
LAST-MODIFIED:20220815T212125Z
UID:3192-1759770000-1759791600@keeperoftheflame.com
SUMMARY:Open Mic Mondays
DESCRIPTION:$2 Natty’s & Busch Beer from 5-7pm
URL:https://keeperoftheflame.com/event/open-mic-mondays-2025-10-06/
CATEGORIES:promotions
ATTACH;FMTTYPE=image/jpeg:https://keeperoftheflame.com/wp-content/uploads/2022/08/open-mic-1.jpeg
END:VEVENT
BEGIN:VEVENT
DTSTART;TZID=America/New_York:20251009T170000
DTEND;TZID=America/New_York:20251009T230000
DTSTAMP:20260423T182322
CREATED:20220815T211244Z
LAST-MODIFIED:20220815T211244Z
UID:3194-1760029200-1760050800@keeperoftheflame.com
SUMMARY:Thirsty Thursdays
DESCRIPTION:$2 Draft Beers All Night
URL:https://keeperoftheflame.com/event/thirsty-thursdays-2025-10-09/
CATEGORIES:promotions
ATTACH;FMTTYPE=image/jpeg:https://keeperoftheflame.com/wp-content/uploads/2022/04/josh-olalde-Ygu9Qx309s-unsplash.jpg
END:VEVENT
BEGIN:VEVENT
DTSTART;TZID=America/New_York:20251012T170000
DTEND;TZID=America/New_York:20251012T230000
DTSTAMP:20260423T182322
CREATED:20220721T025110Z
LAST-MODIFIED:20220721T025110Z
UID:3195-1760288400-1760310000@keeperoftheflame.com
SUMMARY:Game Day On DirecTV
DESCRIPTION:Spend Game Day At The Bar
URL:https://keeperoftheflame.com/event/game-day-2-2025-10-12/
LOCATION:Keeper Of The Flame\, 2750 Conrad Ridge Road\, Holladay\, TN\, 38341\, United States
CATEGORIES:Sports
ATTACH;FMTTYPE=image/jpeg:https://keeperoftheflame.com/wp-content/uploads/2022/07/sports-package.jpg
END:VEVENT
BEGIN:VEVENT
DTSTART;TZID=America/New_York:20251013T170000
DTEND;TZID=America/New_York:20251013T230000
DTSTAMP:20260423T182322
CREATED:20220721T025110Z
LAST-MODIFIED:20220721T025110Z
UID:3197-1760374800-1760396400@keeperoftheflame.com
SUMMARY:Game Day On DirecTV
DESCRIPTION:Spend Game Day At The Bar
URL:https://keeperoftheflame.com/event/game-day-2-2025-10-13/
LOCATION:Keeper Of The Flame\, 2750 Conrad Ridge Road\, Holladay\, TN\, 38341\, United States
CATEGORIES:Sports
ATTACH;FMTTYPE=image/jpeg:https://keeperoftheflame.com/wp-content/uploads/2022/07/sports-package.jpg
END:VEVENT
BEGIN:VEVENT
DTSTART;TZID=America/New_York:20251013T170000
DTEND;TZID=America/New_York:20251013T230000
DTSTAMP:20260423T182322
CREATED:20220815T212125Z
LAST-MODIFIED:20220815T212125Z
UID:3196-1760374800-1760396400@keeperoftheflame.com
SUMMARY:Open Mic Mondays
DESCRIPTION:$2 Natty’s & Busch Beer from 5-7pm
URL:https://keeperoftheflame.com/event/open-mic-mondays-2025-10-13/
CATEGORIES:promotions
ATTACH;FMTTYPE=image/jpeg:https://keeperoftheflame.com/wp-content/uploads/2022/08/open-mic-1.jpeg
END:VEVENT
BEGIN:VEVENT
DTSTART;TZID=America/New_York:20251016T170000
DTEND;TZID=America/New_York:20251016T230000
DTSTAMP:20260423T182322
CREATED:20220815T211244Z
LAST-MODIFIED:20220815T211244Z
UID:3198-1760634000-1760655600@keeperoftheflame.com
SUMMARY:Thirsty Thursdays
DESCRIPTION:$2 Draft Beers All Night
URL:https://keeperoftheflame.com/event/thirsty-thursdays-2025-10-16/
CATEGORIES:promotions
ATTACH;FMTTYPE=image/jpeg:https://keeperoftheflame.com/wp-content/uploads/2022/04/josh-olalde-Ygu9Qx309s-unsplash.jpg
END:VEVENT
BEGIN:VEVENT
DTSTART;TZID=America/New_York:20251019T170000
DTEND;TZID=America/New_York:20251019T230000
DTSTAMP:20260423T182322
CREATED:20220721T025110Z
LAST-MODIFIED:20220721T025110Z
UID:3199-1760893200-1760914800@keeperoftheflame.com
SUMMARY:Game Day On DirecTV
DESCRIPTION:Spend Game Day At The Bar
URL:https://keeperoftheflame.com/event/game-day-2-2025-10-19/
LOCATION:Keeper Of The Flame\, 2750 Conrad Ridge Road\, Holladay\, TN\, 38341\, United States
CATEGORIES:Sports
ATTACH;FMTTYPE=image/jpeg:https://keeperoftheflame.com/wp-content/uploads/2022/07/sports-package.jpg
END:VEVENT
BEGIN:VEVENT
DTSTART;TZID=America/New_York:20251020T170000
DTEND;TZID=America/New_York:20251020T230000
DTSTAMP:20260423T182322
CREATED:20220721T025110Z
LAST-MODIFIED:20220721T025110Z
UID:3201-1760979600-1761001200@keeperoftheflame.com
SUMMARY:Game Day On DirecTV
DESCRIPTION:Spend Game Day At The Bar
URL:https://keeperoftheflame.com/event/game-day-2-2025-10-20/
LOCATION:Keeper Of The Flame\, 2750 Conrad Ridge Road\, Holladay\, TN\, 38341\, United States
CATEGORIES:Sports
ATTACH;FMTTYPE=image/jpeg:https://keeperoftheflame.com/wp-content/uploads/2022/07/sports-package.jpg
END:VEVENT
BEGIN:VEVENT
DTSTART;TZID=America/New_York:20251020T170000
DTEND;TZID=America/New_York:20251020T230000
DTSTAMP:20260423T182322
CREATED:20220815T212125Z
LAST-MODIFIED:20220815T212125Z
UID:3200-1760979600-1761001200@keeperoftheflame.com
SUMMARY:Open Mic Mondays
DESCRIPTION:$2 Natty’s & Busch Beer from 5-7pm
URL:https://keeperoftheflame.com/event/open-mic-mondays-2025-10-20/
CATEGORIES:promotions
ATTACH;FMTTYPE=image/jpeg:https://keeperoftheflame.com/wp-content/uploads/2022/08/open-mic-1.jpeg
END:VEVENT
BEGIN:VEVENT
DTSTART;TZID=America/New_York:20251023T170000
DTEND;TZID=America/New_York:20251023T230000
DTSTAMP:20260423T182322
CREATED:20220815T211244Z
LAST-MODIFIED:20220815T211244Z
UID:3202-1761238800-1761260400@keeperoftheflame.com
SUMMARY:Thirsty Thursdays
DESCRIPTION:$2 Draft Beers All Night
URL:https://keeperoftheflame.com/event/thirsty-thursdays-2025-10-23/
CATEGORIES:promotions
ATTACH;FMTTYPE=image/jpeg:https://keeperoftheflame.com/wp-content/uploads/2022/04/josh-olalde-Ygu9Qx309s-unsplash.jpg
END:VEVENT
BEGIN:VEVENT
DTSTART;TZID=America/New_York:20251026T170000
DTEND;TZID=America/New_York:20251026T230000
DTSTAMP:20260423T182322
CREATED:20220721T025110Z
LAST-MODIFIED:20220721T025110Z
UID:3203-1761498000-1761519600@keeperoftheflame.com
SUMMARY:Game Day On DirecTV
DESCRIPTION:Spend Game Day At The Bar
URL:https://keeperoftheflame.com/event/game-day-2-2025-10-26/
LOCATION:Keeper Of The Flame\, 2750 Conrad Ridge Road\, Holladay\, TN\, 38341\, United States
CATEGORIES:Sports
ATTACH;FMTTYPE=image/jpeg:https://keeperoftheflame.com/wp-content/uploads/2022/07/sports-package.jpg
END:VEVENT
BEGIN:VEVENT
DTSTART;TZID=America/New_York:20251027T170000
DTEND;TZID=America/New_York:20251027T230000
DTSTAMP:20260423T182322
CREATED:20220721T025110Z
LAST-MODIFIED:20220721T025110Z
UID:3205-1761584400-1761606000@keeperoftheflame.com
SUMMARY:Game Day On DirecTV
DESCRIPTION:Spend Game Day At The Bar
URL:https://keeperoftheflame.com/event/game-day-2-2025-10-27/
LOCATION:Keeper Of The Flame\, 2750 Conrad Ridge Road\, Holladay\, TN\, 38341\, United States
CATEGORIES:Sports
ATTACH;FMTTYPE=image/jpeg:https://keeperoftheflame.com/wp-content/uploads/2022/07/sports-package.jpg
END:VEVENT
BEGIN:VEVENT
DTSTART;TZID=America/New_York:20251027T170000
DTEND;TZID=America/New_York:20251027T230000
DTSTAMP:20260423T182322
CREATED:20220815T212125Z
LAST-MODIFIED:20220815T212125Z
UID:3204-1761584400-1761606000@keeperoftheflame.com
SUMMARY:Open Mic Mondays
DESCRIPTION:$2 Natty’s & Busch Beer from 5-7pm
URL:https://keeperoftheflame.com/event/open-mic-mondays-2025-10-27/
CATEGORIES:promotions
ATTACH;FMTTYPE=image/jpeg:https://keeperoftheflame.com/wp-content/uploads/2022/08/open-mic-1.jpeg
END:VEVENT
BEGIN:VEVENT
DTSTART;TZID=America/New_York:20251030T170000
DTEND;TZID=America/New_York:20251030T230000
DTSTAMP:20260423T182322
CREATED:20220815T211244Z
LAST-MODIFIED:20220815T211244Z
UID:3206-1761843600-1761865200@keeperoftheflame.com
SUMMARY:Thirsty Thursdays
DESCRIPTION:$2 Draft Beers All Night
URL:https://keeperoftheflame.com/event/thirsty-thursdays-2025-10-30/
CATEGORIES:promotions
ATTACH;FMTTYPE=image/jpeg:https://keeperoftheflame.com/wp-content/uploads/2022/04/josh-olalde-Ygu9Qx309s-unsplash.jpg
END:VEVENT
END:VCALENDAR