BEGIN:VCALENDAR
VERSION:2.0
PRODID:-//Keeper Of The Flame - ECPv6.15.20//NONSGML v1.0//EN
CALSCALE:GREGORIAN
METHOD:PUBLISH
X-WR-CALNAME:Keeper Of The Flame
X-ORIGINAL-URL:https://keeperoftheflame.com
X-WR-CALDESC:Events for Keeper Of The Flame
REFRESH-INTERVAL;VALUE=DURATION:PT1H
X-Robots-Tag:noindex
X-PUBLISHED-TTL:PT1H
BEGIN:VTIMEZONE
TZID:America/New_York
BEGIN:DAYLIGHT
TZOFFSETFROM:-0500
TZOFFSETTO:-0400
TZNAME:EDT
DTSTART:20240310T070000
END:DAYLIGHT
BEGIN:STANDARD
TZOFFSETFROM:-0400
TZOFFSETTO:-0500
TZNAME:EST
DTSTART:20241103T060000
END:STANDARD
BEGIN:DAYLIGHT
TZOFFSETFROM:-0500
TZOFFSETTO:-0400
TZNAME:EDT
DTSTART:20250309T070000
END:DAYLIGHT
BEGIN:STANDARD
TZOFFSETFROM:-0400
TZOFFSETTO:-0500
TZNAME:EST
DTSTART:20251102T060000
END:STANDARD
BEGIN:DAYLIGHT
TZOFFSETFROM:-0500
TZOFFSETTO:-0400
TZNAME:EDT
DTSTART:20260308T070000
END:DAYLIGHT
BEGIN:STANDARD
TZOFFSETFROM:-0400
TZOFFSETTO:-0500
TZNAME:EST
DTSTART:20261101T060000
END:STANDARD
END:VTIMEZONE
BEGIN:VEVENT
DTSTART;TZID=America/New_York:20250515T170000
DTEND;TZID=America/New_York:20250515T230000
DTSTAMP:20260419T203021
CREATED:20220815T211244Z
LAST-MODIFIED:20220815T211244Z
UID:3109-1747328400-1747350000@keeperoftheflame.com
SUMMARY:Thirsty Thursdays
DESCRIPTION:$2 Draft Beers All Night
URL:https://keeperoftheflame.com/event/thirsty-thursdays-2025-05-15/
CATEGORIES:promotions
ATTACH;FMTTYPE=image/jpeg:https://keeperoftheflame.com/wp-content/uploads/2022/04/josh-olalde-Ygu9Qx309s-unsplash.jpg
END:VEVENT
BEGIN:VEVENT
DTSTART;TZID=America/New_York:20250518T170000
DTEND;TZID=America/New_York:20250518T230000
DTSTAMP:20260419T203021
CREATED:20220721T025110Z
LAST-MODIFIED:20220721T025110Z
UID:3110-1747587600-1747609200@keeperoftheflame.com
SUMMARY:Game Day On DirecTV
DESCRIPTION:Spend Game Day At The Bar
URL:https://keeperoftheflame.com/event/game-day-2-2025-05-18/
LOCATION:Keeper Of The Flame\, 2750 Conrad Ridge Road\, Holladay\, TN\, 38341\, United States
CATEGORIES:Sports
ATTACH;FMTTYPE=image/jpeg:https://keeperoftheflame.com/wp-content/uploads/2022/07/sports-package.jpg
END:VEVENT
BEGIN:VEVENT
DTSTART;TZID=America/New_York:20250519T170000
DTEND;TZID=America/New_York:20250519T230000
DTSTAMP:20260419T203021
CREATED:20220721T025110Z
LAST-MODIFIED:20220721T025110Z
UID:3112-1747674000-1747695600@keeperoftheflame.com
SUMMARY:Game Day On DirecTV
DESCRIPTION:Spend Game Day At The Bar
URL:https://keeperoftheflame.com/event/game-day-2-2025-05-19/
LOCATION:Keeper Of The Flame\, 2750 Conrad Ridge Road\, Holladay\, TN\, 38341\, United States
CATEGORIES:Sports
ATTACH;FMTTYPE=image/jpeg:https://keeperoftheflame.com/wp-content/uploads/2022/07/sports-package.jpg
END:VEVENT
BEGIN:VEVENT
DTSTART;TZID=America/New_York:20250519T170000
DTEND;TZID=America/New_York:20250519T230000
DTSTAMP:20260419T203021
CREATED:20220815T212125Z
LAST-MODIFIED:20220815T212125Z
UID:3111-1747674000-1747695600@keeperoftheflame.com
SUMMARY:Open Mic Mondays
DESCRIPTION:$2 Natty’s & Busch Beer from 5-7pm
URL:https://keeperoftheflame.com/event/open-mic-mondays-2025-05-19/
CATEGORIES:promotions
ATTACH;FMTTYPE=image/jpeg:https://keeperoftheflame.com/wp-content/uploads/2022/08/open-mic-1.jpeg
END:VEVENT
BEGIN:VEVENT
DTSTART;TZID=America/New_York:20250522T170000
DTEND;TZID=America/New_York:20250522T230000
DTSTAMP:20260419T203021
CREATED:20220815T211244Z
LAST-MODIFIED:20220815T211244Z
UID:3113-1747933200-1747954800@keeperoftheflame.com
SUMMARY:Thirsty Thursdays
DESCRIPTION:$2 Draft Beers All Night
URL:https://keeperoftheflame.com/event/thirsty-thursdays-2025-05-22/
CATEGORIES:promotions
ATTACH;FMTTYPE=image/jpeg:https://keeperoftheflame.com/wp-content/uploads/2022/04/josh-olalde-Ygu9Qx309s-unsplash.jpg
END:VEVENT
BEGIN:VEVENT
DTSTART;TZID=America/New_York:20250525T170000
DTEND;TZID=America/New_York:20250525T230000
DTSTAMP:20260419T203021
CREATED:20220721T025110Z
LAST-MODIFIED:20220721T025110Z
UID:3114-1748192400-1748214000@keeperoftheflame.com
SUMMARY:Game Day On DirecTV
DESCRIPTION:Spend Game Day At The Bar
URL:https://keeperoftheflame.com/event/game-day-2-2025-05-25/
LOCATION:Keeper Of The Flame\, 2750 Conrad Ridge Road\, Holladay\, TN\, 38341\, United States
CATEGORIES:Sports
ATTACH;FMTTYPE=image/jpeg:https://keeperoftheflame.com/wp-content/uploads/2022/07/sports-package.jpg
END:VEVENT
BEGIN:VEVENT
DTSTART;TZID=America/New_York:20250526T170000
DTEND;TZID=America/New_York:20250526T230000
DTSTAMP:20260419T203021
CREATED:20220721T025110Z
LAST-MODIFIED:20220721T025110Z
UID:3116-1748278800-1748300400@keeperoftheflame.com
SUMMARY:Game Day On DirecTV
DESCRIPTION:Spend Game Day At The Bar
URL:https://keeperoftheflame.com/event/game-day-2-2025-05-26/
LOCATION:Keeper Of The Flame\, 2750 Conrad Ridge Road\, Holladay\, TN\, 38341\, United States
CATEGORIES:Sports
ATTACH;FMTTYPE=image/jpeg:https://keeperoftheflame.com/wp-content/uploads/2022/07/sports-package.jpg
END:VEVENT
BEGIN:VEVENT
DTSTART;TZID=America/New_York:20250526T170000
DTEND;TZID=America/New_York:20250526T230000
DTSTAMP:20260419T203021
CREATED:20220815T212125Z
LAST-MODIFIED:20220815T212125Z
UID:3115-1748278800-1748300400@keeperoftheflame.com
SUMMARY:Open Mic Mondays
DESCRIPTION:$2 Natty’s & Busch Beer from 5-7pm
URL:https://keeperoftheflame.com/event/open-mic-mondays-2025-05-26/
CATEGORIES:promotions
ATTACH;FMTTYPE=image/jpeg:https://keeperoftheflame.com/wp-content/uploads/2022/08/open-mic-1.jpeg
END:VEVENT
BEGIN:VEVENT
DTSTART;TZID=America/New_York:20250529T170000
DTEND;TZID=America/New_York:20250529T230000
DTSTAMP:20260419T203021
CREATED:20220815T211244Z
LAST-MODIFIED:20220815T211244Z
UID:3117-1748538000-1748559600@keeperoftheflame.com
SUMMARY:Thirsty Thursdays
DESCRIPTION:$2 Draft Beers All Night
URL:https://keeperoftheflame.com/event/thirsty-thursdays-2025-05-29/
CATEGORIES:promotions
ATTACH;FMTTYPE=image/jpeg:https://keeperoftheflame.com/wp-content/uploads/2022/04/josh-olalde-Ygu9Qx309s-unsplash.jpg
END:VEVENT
BEGIN:VEVENT
DTSTART;TZID=America/New_York:20250601T170000
DTEND;TZID=America/New_York:20250601T230000
DTSTAMP:20260419T203021
CREATED:20220721T025110Z
LAST-MODIFIED:20220721T025110Z
UID:3118-1748797200-1748818800@keeperoftheflame.com
SUMMARY:Game Day On DirecTV
DESCRIPTION:Spend Game Day At The Bar
URL:https://keeperoftheflame.com/event/game-day-2-2025-06-01/
LOCATION:Keeper Of The Flame\, 2750 Conrad Ridge Road\, Holladay\, TN\, 38341\, United States
CATEGORIES:Sports
ATTACH;FMTTYPE=image/jpeg:https://keeperoftheflame.com/wp-content/uploads/2022/07/sports-package.jpg
END:VEVENT
BEGIN:VEVENT
DTSTART;TZID=America/New_York:20250602T170000
DTEND;TZID=America/New_York:20250602T230000
DTSTAMP:20260419T203021
CREATED:20220721T025110Z
LAST-MODIFIED:20220721T025110Z
UID:3120-1748883600-1748905200@keeperoftheflame.com
SUMMARY:Game Day On DirecTV
DESCRIPTION:Spend Game Day At The Bar
URL:https://keeperoftheflame.com/event/game-day-2-2025-06-02/
LOCATION:Keeper Of The Flame\, 2750 Conrad Ridge Road\, Holladay\, TN\, 38341\, United States
CATEGORIES:Sports
ATTACH;FMTTYPE=image/jpeg:https://keeperoftheflame.com/wp-content/uploads/2022/07/sports-package.jpg
END:VEVENT
BEGIN:VEVENT
DTSTART;TZID=America/New_York:20250602T170000
DTEND;TZID=America/New_York:20250602T230000
DTSTAMP:20260419T203021
CREATED:20220815T212125Z
LAST-MODIFIED:20220815T212125Z
UID:3119-1748883600-1748905200@keeperoftheflame.com
SUMMARY:Open Mic Mondays
DESCRIPTION:$2 Natty’s & Busch Beer from 5-7pm
URL:https://keeperoftheflame.com/event/open-mic-mondays-2025-06-02/
CATEGORIES:promotions
ATTACH;FMTTYPE=image/jpeg:https://keeperoftheflame.com/wp-content/uploads/2022/08/open-mic-1.jpeg
END:VEVENT
BEGIN:VEVENT
DTSTART;TZID=America/New_York:20250605T170000
DTEND;TZID=America/New_York:20250605T230000
DTSTAMP:20260419T203021
CREATED:20220815T211244Z
LAST-MODIFIED:20220815T211244Z
UID:3121-1749142800-1749164400@keeperoftheflame.com
SUMMARY:Thirsty Thursdays
DESCRIPTION:$2 Draft Beers All Night
URL:https://keeperoftheflame.com/event/thirsty-thursdays-2025-06-05/
CATEGORIES:promotions
ATTACH;FMTTYPE=image/jpeg:https://keeperoftheflame.com/wp-content/uploads/2022/04/josh-olalde-Ygu9Qx309s-unsplash.jpg
END:VEVENT
BEGIN:VEVENT
DTSTART;TZID=America/New_York:20250608T170000
DTEND;TZID=America/New_York:20250608T230000
DTSTAMP:20260419T203021
CREATED:20220721T025110Z
LAST-MODIFIED:20220721T025110Z
UID:3122-1749402000-1749423600@keeperoftheflame.com
SUMMARY:Game Day On DirecTV
DESCRIPTION:Spend Game Day At The Bar
URL:https://keeperoftheflame.com/event/game-day-2-2025-06-08/
LOCATION:Keeper Of The Flame\, 2750 Conrad Ridge Road\, Holladay\, TN\, 38341\, United States
CATEGORIES:Sports
ATTACH;FMTTYPE=image/jpeg:https://keeperoftheflame.com/wp-content/uploads/2022/07/sports-package.jpg
END:VEVENT
BEGIN:VEVENT
DTSTART;TZID=America/New_York:20250609T170000
DTEND;TZID=America/New_York:20250609T230000
DTSTAMP:20260419T203021
CREATED:20220721T025110Z
LAST-MODIFIED:20220721T025110Z
UID:3124-1749488400-1749510000@keeperoftheflame.com
SUMMARY:Game Day On DirecTV
DESCRIPTION:Spend Game Day At The Bar
URL:https://keeperoftheflame.com/event/game-day-2-2025-06-09/
LOCATION:Keeper Of The Flame\, 2750 Conrad Ridge Road\, Holladay\, TN\, 38341\, United States
CATEGORIES:Sports
ATTACH;FMTTYPE=image/jpeg:https://keeperoftheflame.com/wp-content/uploads/2022/07/sports-package.jpg
END:VEVENT
BEGIN:VEVENT
DTSTART;TZID=America/New_York:20250609T170000
DTEND;TZID=America/New_York:20250609T230000
DTSTAMP:20260419T203021
CREATED:20220815T212125Z
LAST-MODIFIED:20220815T212125Z
UID:3123-1749488400-1749510000@keeperoftheflame.com
SUMMARY:Open Mic Mondays
DESCRIPTION:$2 Natty’s & Busch Beer from 5-7pm
URL:https://keeperoftheflame.com/event/open-mic-mondays-2025-06-09/
CATEGORIES:promotions
ATTACH;FMTTYPE=image/jpeg:https://keeperoftheflame.com/wp-content/uploads/2022/08/open-mic-1.jpeg
END:VEVENT
BEGIN:VEVENT
DTSTART;TZID=America/New_York:20250612T170000
DTEND;TZID=America/New_York:20250612T230000
DTSTAMP:20260419T203021
CREATED:20220815T211244Z
LAST-MODIFIED:20220815T211244Z
UID:3125-1749747600-1749769200@keeperoftheflame.com
SUMMARY:Thirsty Thursdays
DESCRIPTION:$2 Draft Beers All Night
URL:https://keeperoftheflame.com/event/thirsty-thursdays-2025-06-12/
CATEGORIES:promotions
ATTACH;FMTTYPE=image/jpeg:https://keeperoftheflame.com/wp-content/uploads/2022/04/josh-olalde-Ygu9Qx309s-unsplash.jpg
END:VEVENT
BEGIN:VEVENT
DTSTART;TZID=America/New_York:20250615T170000
DTEND;TZID=America/New_York:20250615T230000
DTSTAMP:20260419T203021
CREATED:20220721T025110Z
LAST-MODIFIED:20220721T025110Z
UID:3126-1750006800-1750028400@keeperoftheflame.com
SUMMARY:Game Day On DirecTV
DESCRIPTION:Spend Game Day At The Bar
URL:https://keeperoftheflame.com/event/game-day-2-2025-06-15/
LOCATION:Keeper Of The Flame\, 2750 Conrad Ridge Road\, Holladay\, TN\, 38341\, United States
CATEGORIES:Sports
ATTACH;FMTTYPE=image/jpeg:https://keeperoftheflame.com/wp-content/uploads/2022/07/sports-package.jpg
END:VEVENT
BEGIN:VEVENT
DTSTART;TZID=America/New_York:20250616T170000
DTEND;TZID=America/New_York:20250616T230000
DTSTAMP:20260419T203021
CREATED:20220721T025110Z
LAST-MODIFIED:20220721T025110Z
UID:3128-1750093200-1750114800@keeperoftheflame.com
SUMMARY:Game Day On DirecTV
DESCRIPTION:Spend Game Day At The Bar
URL:https://keeperoftheflame.com/event/game-day-2-2025-06-16/
LOCATION:Keeper Of The Flame\, 2750 Conrad Ridge Road\, Holladay\, TN\, 38341\, United States
CATEGORIES:Sports
ATTACH;FMTTYPE=image/jpeg:https://keeperoftheflame.com/wp-content/uploads/2022/07/sports-package.jpg
END:VEVENT
BEGIN:VEVENT
DTSTART;TZID=America/New_York:20250616T170000
DTEND;TZID=America/New_York:20250616T230000
DTSTAMP:20260419T203021
CREATED:20220815T212125Z
LAST-MODIFIED:20220815T212125Z
UID:3127-1750093200-1750114800@keeperoftheflame.com
SUMMARY:Open Mic Mondays
DESCRIPTION:$2 Natty’s & Busch Beer from 5-7pm
URL:https://keeperoftheflame.com/event/open-mic-mondays-2025-06-16/
CATEGORIES:promotions
ATTACH;FMTTYPE=image/jpeg:https://keeperoftheflame.com/wp-content/uploads/2022/08/open-mic-1.jpeg
END:VEVENT
BEGIN:VEVENT
DTSTART;TZID=America/New_York:20250619T170000
DTEND;TZID=America/New_York:20250619T230000
DTSTAMP:20260419T203021
CREATED:20220815T211244Z
LAST-MODIFIED:20220815T211244Z
UID:3129-1750352400-1750374000@keeperoftheflame.com
SUMMARY:Thirsty Thursdays
DESCRIPTION:$2 Draft Beers All Night
URL:https://keeperoftheflame.com/event/thirsty-thursdays-2025-06-19/
CATEGORIES:promotions
ATTACH;FMTTYPE=image/jpeg:https://keeperoftheflame.com/wp-content/uploads/2022/04/josh-olalde-Ygu9Qx309s-unsplash.jpg
END:VEVENT
BEGIN:VEVENT
DTSTART;TZID=America/New_York:20250622T170000
DTEND;TZID=America/New_York:20250622T230000
DTSTAMP:20260419T203021
CREATED:20220721T025110Z
LAST-MODIFIED:20220721T025110Z
UID:3130-1750611600-1750633200@keeperoftheflame.com
SUMMARY:Game Day On DirecTV
DESCRIPTION:Spend Game Day At The Bar
URL:https://keeperoftheflame.com/event/game-day-2-2025-06-22/
LOCATION:Keeper Of The Flame\, 2750 Conrad Ridge Road\, Holladay\, TN\, 38341\, United States
CATEGORIES:Sports
ATTACH;FMTTYPE=image/jpeg:https://keeperoftheflame.com/wp-content/uploads/2022/07/sports-package.jpg
END:VEVENT
BEGIN:VEVENT
DTSTART;TZID=America/New_York:20250623T170000
DTEND;TZID=America/New_York:20250623T230000
DTSTAMP:20260419T203021
CREATED:20220721T025110Z
LAST-MODIFIED:20220721T025110Z
UID:3132-1750698000-1750719600@keeperoftheflame.com
SUMMARY:Game Day On DirecTV
DESCRIPTION:Spend Game Day At The Bar
URL:https://keeperoftheflame.com/event/game-day-2-2025-06-23/
LOCATION:Keeper Of The Flame\, 2750 Conrad Ridge Road\, Holladay\, TN\, 38341\, United States
CATEGORIES:Sports
ATTACH;FMTTYPE=image/jpeg:https://keeperoftheflame.com/wp-content/uploads/2022/07/sports-package.jpg
END:VEVENT
BEGIN:VEVENT
DTSTART;TZID=America/New_York:20250623T170000
DTEND;TZID=America/New_York:20250623T230000
DTSTAMP:20260419T203021
CREATED:20220815T212125Z
LAST-MODIFIED:20220815T212125Z
UID:3131-1750698000-1750719600@keeperoftheflame.com
SUMMARY:Open Mic Mondays
DESCRIPTION:$2 Natty’s & Busch Beer from 5-7pm
URL:https://keeperoftheflame.com/event/open-mic-mondays-2025-06-23/
CATEGORIES:promotions
ATTACH;FMTTYPE=image/jpeg:https://keeperoftheflame.com/wp-content/uploads/2022/08/open-mic-1.jpeg
END:VEVENT
BEGIN:VEVENT
DTSTART;TZID=America/New_York:20250626T170000
DTEND;TZID=America/New_York:20250626T230000
DTSTAMP:20260419T203021
CREATED:20220815T211244Z
LAST-MODIFIED:20220815T211244Z
UID:3133-1750957200-1750978800@keeperoftheflame.com
SUMMARY:Thirsty Thursdays
DESCRIPTION:$2 Draft Beers All Night
URL:https://keeperoftheflame.com/event/thirsty-thursdays-2025-06-26/
CATEGORIES:promotions
ATTACH;FMTTYPE=image/jpeg:https://keeperoftheflame.com/wp-content/uploads/2022/04/josh-olalde-Ygu9Qx309s-unsplash.jpg
END:VEVENT
BEGIN:VEVENT
DTSTART;TZID=America/New_York:20250629T170000
DTEND;TZID=America/New_York:20250629T230000
DTSTAMP:20260419T203021
CREATED:20220721T025110Z
LAST-MODIFIED:20220721T025110Z
UID:3134-1751216400-1751238000@keeperoftheflame.com
SUMMARY:Game Day On DirecTV
DESCRIPTION:Spend Game Day At The Bar
URL:https://keeperoftheflame.com/event/game-day-2-2025-06-29/
LOCATION:Keeper Of The Flame\, 2750 Conrad Ridge Road\, Holladay\, TN\, 38341\, United States
CATEGORIES:Sports
ATTACH;FMTTYPE=image/jpeg:https://keeperoftheflame.com/wp-content/uploads/2022/07/sports-package.jpg
END:VEVENT
BEGIN:VEVENT
DTSTART;TZID=America/New_York:20250630T170000
DTEND;TZID=America/New_York:20250630T230000
DTSTAMP:20260419T203021
CREATED:20220721T025110Z
LAST-MODIFIED:20220721T025110Z
UID:3136-1751302800-1751324400@keeperoftheflame.com
SUMMARY:Game Day On DirecTV
DESCRIPTION:Spend Game Day At The Bar
URL:https://keeperoftheflame.com/event/game-day-2-2025-06-30/
LOCATION:Keeper Of The Flame\, 2750 Conrad Ridge Road\, Holladay\, TN\, 38341\, United States
CATEGORIES:Sports
ATTACH;FMTTYPE=image/jpeg:https://keeperoftheflame.com/wp-content/uploads/2022/07/sports-package.jpg
END:VEVENT
BEGIN:VEVENT
DTSTART;TZID=America/New_York:20250630T170000
DTEND;TZID=America/New_York:20250630T230000
DTSTAMP:20260419T203021
CREATED:20220815T212125Z
LAST-MODIFIED:20220815T212125Z
UID:3135-1751302800-1751324400@keeperoftheflame.com
SUMMARY:Open Mic Mondays
DESCRIPTION:$2 Natty’s & Busch Beer from 5-7pm
URL:https://keeperoftheflame.com/event/open-mic-mondays-2025-06-30/
CATEGORIES:promotions
ATTACH;FMTTYPE=image/jpeg:https://keeperoftheflame.com/wp-content/uploads/2022/08/open-mic-1.jpeg
END:VEVENT
BEGIN:VEVENT
DTSTART;TZID=America/New_York:20250703T170000
DTEND;TZID=America/New_York:20250703T230000
DTSTAMP:20260419T203021
CREATED:20220815T211244Z
LAST-MODIFIED:20220815T211244Z
UID:3137-1751562000-1751583600@keeperoftheflame.com
SUMMARY:Thirsty Thursdays
DESCRIPTION:$2 Draft Beers All Night
URL:https://keeperoftheflame.com/event/thirsty-thursdays-2025-07-03/
CATEGORIES:promotions
ATTACH;FMTTYPE=image/jpeg:https://keeperoftheflame.com/wp-content/uploads/2022/04/josh-olalde-Ygu9Qx309s-unsplash.jpg
END:VEVENT
BEGIN:VEVENT
DTSTART;TZID=America/New_York:20250706T170000
DTEND;TZID=America/New_York:20250706T230000
DTSTAMP:20260419T203021
CREATED:20220721T025110Z
LAST-MODIFIED:20220721T025110Z
UID:3139-1751821200-1751842800@keeperoftheflame.com
SUMMARY:Game Day On DirecTV
DESCRIPTION:Spend Game Day At The Bar
URL:https://keeperoftheflame.com/event/game-day-2-2025-07-06/
LOCATION:Keeper Of The Flame\, 2750 Conrad Ridge Road\, Holladay\, TN\, 38341\, United States
CATEGORIES:Sports
ATTACH;FMTTYPE=image/jpeg:https://keeperoftheflame.com/wp-content/uploads/2022/07/sports-package.jpg
END:VEVENT
END:VCALENDAR