BEGIN:VCALENDAR
VERSION:2.0
PRODID:-//Keeper Of The Flame - ECPv6.15.20//NONSGML v1.0//EN
CALSCALE:GREGORIAN
METHOD:PUBLISH
X-WR-CALNAME:Keeper Of The Flame
X-ORIGINAL-URL:https://keeperoftheflame.com
X-WR-CALDESC:Events for Keeper Of The Flame
REFRESH-INTERVAL;VALUE=DURATION:PT1H
X-Robots-Tag:noindex
X-PUBLISHED-TTL:PT1H
BEGIN:VTIMEZONE
TZID:America/New_York
BEGIN:DAYLIGHT
TZOFFSETFROM:-0500
TZOFFSETTO:-0400
TZNAME:EDT
DTSTART:20210314T070000
END:DAYLIGHT
BEGIN:STANDARD
TZOFFSETFROM:-0400
TZOFFSETTO:-0500
TZNAME:EST
DTSTART:20211107T060000
END:STANDARD
BEGIN:DAYLIGHT
TZOFFSETFROM:-0500
TZOFFSETTO:-0400
TZNAME:EDT
DTSTART:20220313T070000
END:DAYLIGHT
BEGIN:STANDARD
TZOFFSETFROM:-0400
TZOFFSETTO:-0500
TZNAME:EST
DTSTART:20221106T060000
END:STANDARD
BEGIN:DAYLIGHT
TZOFFSETFROM:-0500
TZOFFSETTO:-0400
TZNAME:EDT
DTSTART:20230312T070000
END:DAYLIGHT
BEGIN:STANDARD
TZOFFSETFROM:-0400
TZOFFSETTO:-0500
TZNAME:EST
DTSTART:20231105T060000
END:STANDARD
END:VTIMEZONE
BEGIN:VTIMEZONE
TZID:America/Chicago
BEGIN:DAYLIGHT
TZOFFSETFROM:-0600
TZOFFSETTO:-0500
TZNAME:CDT
DTSTART:20210314T080000
END:DAYLIGHT
BEGIN:STANDARD
TZOFFSETFROM:-0500
TZOFFSETTO:-0600
TZNAME:CST
DTSTART:20211107T070000
END:STANDARD
BEGIN:DAYLIGHT
TZOFFSETFROM:-0600
TZOFFSETTO:-0500
TZNAME:CDT
DTSTART:20220313T080000
END:DAYLIGHT
BEGIN:STANDARD
TZOFFSETFROM:-0500
TZOFFSETTO:-0600
TZNAME:CST
DTSTART:20221106T070000
END:STANDARD
BEGIN:DAYLIGHT
TZOFFSETFROM:-0600
TZOFFSETTO:-0500
TZNAME:CDT
DTSTART:20230312T080000
END:DAYLIGHT
BEGIN:STANDARD
TZOFFSETFROM:-0500
TZOFFSETTO:-0600
TZNAME:CST
DTSTART:20231105T070000
END:STANDARD
END:VTIMEZONE
BEGIN:VEVENT
DTSTART;TZID=America/New_York:20220723T190000
DTEND;TZID=America/New_York:20220723T220000
DTSTAMP:20260422T074223
CREATED:20220721T022740Z
LAST-MODIFIED:20220722T205504Z
UID:2344-1658602800-1658613600@keeperoftheflame.com
SUMMARY:Mickey Daniel
DESCRIPTION:
URL:https://keeperoftheflame.com/event/mickey-daniel/
CATEGORIES:LIve Music
ATTACH;FMTTYPE=image/jpeg:https://keeperoftheflame.com/wp-content/uploads/2022/07/mickey-daniel.jpg
END:VEVENT
BEGIN:VEVENT
DTSTART;TZID=America/New_York:20220722T190000
DTEND;TZID=America/New_York:20220722T220000
DTSTAMP:20260422T074223
CREATED:20220707T224000Z
LAST-MODIFIED:20220722T205704Z
UID:2148-1658516400-1658527200@keeperoftheflame.com
SUMMARY:Liam Slater
DESCRIPTION:
URL:https://keeperoftheflame.com/event/liam-slater/
CATEGORIES:LIve Music
ATTACH;FMTTYPE=image/jpeg:https://keeperoftheflame.com/wp-content/uploads/2022/07/liam-slater.jpg
END:VEVENT
BEGIN:VEVENT
DTSTART;TZID=America/New_York:20220716T190000
DTEND;TZID=America/New_York:20220716T220000
DTSTAMP:20260422T074223
CREATED:20220705T055532Z
LAST-MODIFIED:20220712T224018Z
UID:2094-1657998000-1658008800@keeperoftheflame.com
SUMMARY:Rehab
DESCRIPTION:Special Guest: Twang and Round \n\n\n\n\nRegister on Eventbrite\n\n\n\nGet Tickets
URL:https://keeperoftheflame.com/event/rehab/
CATEGORIES:LIve Music
ATTACH;FMTTYPE=image/jpeg:https://keeperoftheflame.com/wp-content/uploads/2022/07/rehab.jpg
END:VEVENT
BEGIN:VEVENT
DTSTART;TZID=America/New_York:20220709T180000
DTEND;TZID=America/New_York:20220709T220000
DTSTAMP:20260422T074223
CREATED:20220705T054857Z
LAST-MODIFIED:20220708T001803Z
UID:2092-1657389600-1657404000@keeperoftheflame.com
SUMMARY:Kyle and Friends
DESCRIPTION:Performing At The Bar
URL:https://keeperoftheflame.com/event/kyle-friends/
CATEGORIES:LIve Music
ATTACH;FMTTYPE=image/jpeg:https://keeperoftheflame.com/wp-content/uploads/2022/07/Stock-Crowd.jpg
END:VEVENT
BEGIN:VEVENT
DTSTART;TZID=America/Chicago:20220708T200000
DTEND;TZID=America/Chicago:20220708T223000
DTSTAMP:20260422T074223
CREATED:20220704T201553Z
LAST-MODIFIED:20220707T233238Z
UID:2070-1657310400-1657319400@keeperoftheflame.com
SUMMARY:Terry Bell
DESCRIPTION:
URL:https://keeperoftheflame.com/event/terry-bell/
LOCATION:Keeper Of The Flame\, 2750 Conrad Ridge Road\, Holladay\, TN\, 38341\, United States
CATEGORIES:LIve Music
ATTACH;FMTTYPE=image/jpeg:https://keeperoftheflame.com/wp-content/uploads/2022/07/Terry-Bell-full-band.jpg
END:VEVENT
END:VCALENDAR