BEGIN:VCALENDAR
VERSION:2.0
PRODID:-//Keeper Of The Flame - ECPv6.15.20//NONSGML v1.0//EN
CALSCALE:GREGORIAN
METHOD:PUBLISH
X-WR-CALNAME:Keeper Of The Flame
X-ORIGINAL-URL:https://keeperoftheflame.com
X-WR-CALDESC:Events for Keeper Of The Flame
REFRESH-INTERVAL;VALUE=DURATION:PT1H
X-Robots-Tag:noindex
X-PUBLISHED-TTL:PT1H
BEGIN:VTIMEZONE
TZID:America/New_York
BEGIN:DAYLIGHT
TZOFFSETFROM:-0500
TZOFFSETTO:-0400
TZNAME:EDT
DTSTART:20210314T070000
END:DAYLIGHT
BEGIN:STANDARD
TZOFFSETFROM:-0400
TZOFFSETTO:-0500
TZNAME:EST
DTSTART:20211107T060000
END:STANDARD
BEGIN:DAYLIGHT
TZOFFSETFROM:-0500
TZOFFSETTO:-0400
TZNAME:EDT
DTSTART:20220313T070000
END:DAYLIGHT
BEGIN:STANDARD
TZOFFSETFROM:-0400
TZOFFSETTO:-0500
TZNAME:EST
DTSTART:20221106T060000
END:STANDARD
BEGIN:DAYLIGHT
TZOFFSETFROM:-0500
TZOFFSETTO:-0400
TZNAME:EDT
DTSTART:20230312T070000
END:DAYLIGHT
BEGIN:STANDARD
TZOFFSETFROM:-0400
TZOFFSETTO:-0500
TZNAME:EST
DTSTART:20231105T060000
END:STANDARD
END:VTIMEZONE
BEGIN:VEVENT
DTSTART;TZID=America/New_York:20221006T170000
DTEND;TZID=America/New_York:20221006T230000
DTSTAMP:20260419T163237
CREATED:20220815T211244Z
LAST-MODIFIED:20220815T211244Z
UID:2631-1665075600-1665097200@keeperoftheflame.com
SUMMARY:Thirsty Thursdays
DESCRIPTION:$2 Draft Beers All Night
URL:https://keeperoftheflame.com/event/thirsty-thursdays-2022-10-06/
CATEGORIES:promotions
ATTACH;FMTTYPE=image/jpeg:https://keeperoftheflame.com/wp-content/uploads/2022/04/josh-olalde-Ygu9Qx309s-unsplash.jpg
END:VEVENT
BEGIN:VEVENT
DTSTART;TZID=America/New_York:20221003T170000
DTEND;TZID=America/New_York:20221003T230000
DTSTAMP:20260419T163237
CREATED:20220815T212125Z
LAST-MODIFIED:20220815T212125Z
UID:2714-1664816400-1664838000@keeperoftheflame.com
SUMMARY:Open Mic Mondays
DESCRIPTION:$2 Natty’s & Busch Beer from 5-7pm
URL:https://keeperoftheflame.com/event/open-mic-mondays-2022-10-03/
CATEGORIES:promotions
ATTACH;FMTTYPE=image/jpeg:https://keeperoftheflame.com/wp-content/uploads/2022/08/open-mic-1.jpeg
END:VEVENT
BEGIN:VEVENT
DTSTART;TZID=America/New_York:20221003T170000
DTEND;TZID=America/New_York:20221003T230000
DTSTAMP:20260419T163237
CREATED:20220721T025110Z
LAST-MODIFIED:20220721T025110Z
UID:2457-1664816400-1664838000@keeperoftheflame.com
SUMMARY:Game Day On DirecTV
DESCRIPTION:Spend Game Day At The Bar
URL:https://keeperoftheflame.com/event/game-day-2-2022-10-03/
LOCATION:Keeper Of The Flame\, 2750 Conrad Ridge Road\, Holladay\, TN\, 38341\, United States
CATEGORIES:Sports
ATTACH;FMTTYPE=image/jpeg:https://keeperoftheflame.com/wp-content/uploads/2022/07/sports-package.jpg
END:VEVENT
BEGIN:VEVENT
DTSTART;TZID=America/New_York:20221002T170000
DTEND;TZID=America/New_York:20221002T230000
DTSTAMP:20260419T163237
CREATED:20220721T025110Z
LAST-MODIFIED:20220721T025110Z
UID:2456-1664730000-1664751600@keeperoftheflame.com
SUMMARY:Game Day On DirecTV
DESCRIPTION:Spend Game Day At The Bar
URL:https://keeperoftheflame.com/event/game-day-2-2022-10-02/
LOCATION:Keeper Of The Flame\, 2750 Conrad Ridge Road\, Holladay\, TN\, 38341\, United States
CATEGORIES:Sports
ATTACH;FMTTYPE=image/jpeg:https://keeperoftheflame.com/wp-content/uploads/2022/07/sports-package.jpg
END:VEVENT
BEGIN:VEVENT
DTSTART;TZID=America/New_York:20220929T170000
DTEND;TZID=America/New_York:20220929T230000
DTSTAMP:20260419T163237
CREATED:20220815T211244Z
LAST-MODIFIED:20220815T211244Z
UID:2630-1664470800-1664492400@keeperoftheflame.com
SUMMARY:Thirsty Thursdays
DESCRIPTION:$2 Draft Beers All Night
URL:https://keeperoftheflame.com/event/thirsty-thursdays-2022-09-29/
CATEGORIES:promotions
ATTACH;FMTTYPE=image/jpeg:https://keeperoftheflame.com/wp-content/uploads/2022/04/josh-olalde-Ygu9Qx309s-unsplash.jpg
END:VEVENT
BEGIN:VEVENT
DTSTART;TZID=America/New_York:20220926T170000
DTEND;TZID=America/New_York:20220926T230000
DTSTAMP:20260419T163237
CREATED:20220815T212125Z
LAST-MODIFIED:20220815T212125Z
UID:2713-1664211600-1664233200@keeperoftheflame.com
SUMMARY:Open Mic Mondays
DESCRIPTION:$2 Natty’s & Busch Beer from 5-7pm
URL:https://keeperoftheflame.com/event/open-mic-mondays-2022-09-26/
CATEGORIES:promotions
ATTACH;FMTTYPE=image/jpeg:https://keeperoftheflame.com/wp-content/uploads/2022/08/open-mic-1.jpeg
END:VEVENT
BEGIN:VEVENT
DTSTART;TZID=America/New_York:20220926T170000
DTEND;TZID=America/New_York:20220926T230000
DTSTAMP:20260419T163237
CREATED:20220721T025110Z
LAST-MODIFIED:20220721T025110Z
UID:2455-1664211600-1664233200@keeperoftheflame.com
SUMMARY:Game Day On DirecTV
DESCRIPTION:Spend Game Day At The Bar
URL:https://keeperoftheflame.com/event/game-day-2-2022-09-26/
LOCATION:Keeper Of The Flame\, 2750 Conrad Ridge Road\, Holladay\, TN\, 38341\, United States
CATEGORIES:Sports
ATTACH;FMTTYPE=image/jpeg:https://keeperoftheflame.com/wp-content/uploads/2022/07/sports-package.jpg
END:VEVENT
BEGIN:VEVENT
DTSTART;TZID=America/New_York:20220925T170000
DTEND;TZID=America/New_York:20220925T230000
DTSTAMP:20260419T163237
CREATED:20220721T025110Z
LAST-MODIFIED:20220721T025110Z
UID:2454-1664125200-1664146800@keeperoftheflame.com
SUMMARY:Game Day On DirecTV
DESCRIPTION:Spend Game Day At The Bar
URL:https://keeperoftheflame.com/event/game-day-2-2022-09-25/
LOCATION:Keeper Of The Flame\, 2750 Conrad Ridge Road\, Holladay\, TN\, 38341\, United States
CATEGORIES:Sports
ATTACH;FMTTYPE=image/jpeg:https://keeperoftheflame.com/wp-content/uploads/2022/07/sports-package.jpg
END:VEVENT
BEGIN:VEVENT
DTSTART;TZID=America/New_York:20220922T170000
DTEND;TZID=America/New_York:20220922T230000
DTSTAMP:20260419T163237
CREATED:20220815T211244Z
LAST-MODIFIED:20220815T211244Z
UID:2629-1663866000-1663887600@keeperoftheflame.com
SUMMARY:Thirsty Thursdays
DESCRIPTION:$2 Draft Beers All Night
URL:https://keeperoftheflame.com/event/thirsty-thursdays-2022-09-22/
CATEGORIES:promotions
ATTACH;FMTTYPE=image/jpeg:https://keeperoftheflame.com/wp-content/uploads/2022/04/josh-olalde-Ygu9Qx309s-unsplash.jpg
END:VEVENT
BEGIN:VEVENT
DTSTART;TZID=America/New_York:20220919T170000
DTEND;TZID=America/New_York:20220919T230000
DTSTAMP:20260419T163237
CREATED:20220815T212125Z
LAST-MODIFIED:20220815T212125Z
UID:2712-1663606800-1663628400@keeperoftheflame.com
SUMMARY:Open Mic Mondays
DESCRIPTION:$2 Natty’s & Busch Beer from 5-7pm
URL:https://keeperoftheflame.com/event/open-mic-mondays-2022-09-19/
CATEGORIES:promotions
ATTACH;FMTTYPE=image/jpeg:https://keeperoftheflame.com/wp-content/uploads/2022/08/open-mic-1.jpeg
END:VEVENT
BEGIN:VEVENT
DTSTART;TZID=America/New_York:20220919T170000
DTEND;TZID=America/New_York:20220919T230000
DTSTAMP:20260419T163237
CREATED:20220721T025110Z
LAST-MODIFIED:20220721T025110Z
UID:2453-1663606800-1663628400@keeperoftheflame.com
SUMMARY:Game Day On DirecTV
DESCRIPTION:Spend Game Day At The Bar
URL:https://keeperoftheflame.com/event/game-day-2-2022-09-19/
LOCATION:Keeper Of The Flame\, 2750 Conrad Ridge Road\, Holladay\, TN\, 38341\, United States
CATEGORIES:Sports
ATTACH;FMTTYPE=image/jpeg:https://keeperoftheflame.com/wp-content/uploads/2022/07/sports-package.jpg
END:VEVENT
BEGIN:VEVENT
DTSTART;TZID=America/New_York:20220918T170000
DTEND;TZID=America/New_York:20220918T230000
DTSTAMP:20260419T163237
CREATED:20220721T025110Z
LAST-MODIFIED:20220721T025110Z
UID:2452-1663520400-1663542000@keeperoftheflame.com
SUMMARY:Game Day On DirecTV
DESCRIPTION:Spend Game Day At The Bar
URL:https://keeperoftheflame.com/event/game-day-2-2022-09-18/
LOCATION:Keeper Of The Flame\, 2750 Conrad Ridge Road\, Holladay\, TN\, 38341\, United States
CATEGORIES:Sports
ATTACH;FMTTYPE=image/jpeg:https://keeperoftheflame.com/wp-content/uploads/2022/07/sports-package.jpg
END:VEVENT
BEGIN:VEVENT
DTSTART;TZID=America/New_York:20220917T180000
DTEND;TZID=America/New_York:20220917T220000
DTSTAMP:20260419T163237
CREATED:20220830T023012Z
LAST-MODIFIED:20220901T165536Z
UID:2936-1663437600-1663452000@keeperoftheflame.com
SUMMARY:Scotty Austin (Formerly Of Saving Abel)
DESCRIPTION:
URL:https://keeperoftheflame.com/event/scotty-austin-formerly-of-saving-abel/
CATEGORIES:LIve Music
ATTACH;FMTTYPE=image/jpeg:https://keeperoftheflame.com/wp-content/uploads/2022/08/scotty-austin2.jpg
END:VEVENT
BEGIN:VEVENT
DTSTART;TZID=America/New_York:20220915T170000
DTEND;TZID=America/New_York:20220915T230000
DTSTAMP:20260419T163237
CREATED:20220815T211244Z
LAST-MODIFIED:20220815T211244Z
UID:2628-1663261200-1663282800@keeperoftheflame.com
SUMMARY:Thirsty Thursdays
DESCRIPTION:$2 Draft Beers All Night
URL:https://keeperoftheflame.com/event/thirsty-thursdays-2022-09-15/
CATEGORIES:promotions
ATTACH;FMTTYPE=image/jpeg:https://keeperoftheflame.com/wp-content/uploads/2022/04/josh-olalde-Ygu9Qx309s-unsplash.jpg
END:VEVENT
BEGIN:VEVENT
DTSTART;TZID=America/New_York:20220912T170000
DTEND;TZID=America/New_York:20220912T230000
DTSTAMP:20260419T163237
CREATED:20220815T212125Z
LAST-MODIFIED:20220815T212125Z
UID:2711-1663002000-1663023600@keeperoftheflame.com
SUMMARY:Open Mic Mondays
DESCRIPTION:$2 Natty’s & Busch Beer from 5-7pm
URL:https://keeperoftheflame.com/event/open-mic-mondays-2022-09-12/
CATEGORIES:promotions
ATTACH;FMTTYPE=image/jpeg:https://keeperoftheflame.com/wp-content/uploads/2022/08/open-mic-1.jpeg
END:VEVENT
BEGIN:VEVENT
DTSTART;TZID=America/New_York:20220912T170000
DTEND;TZID=America/New_York:20220912T230000
DTSTAMP:20260419T163237
CREATED:20220721T025110Z
LAST-MODIFIED:20220721T025110Z
UID:2451-1663002000-1663023600@keeperoftheflame.com
SUMMARY:Game Day On DirecTV
DESCRIPTION:Spend Game Day At The Bar
URL:https://keeperoftheflame.com/event/game-day-2-2022-09-12/
LOCATION:Keeper Of The Flame\, 2750 Conrad Ridge Road\, Holladay\, TN\, 38341\, United States
CATEGORIES:Sports
ATTACH;FMTTYPE=image/jpeg:https://keeperoftheflame.com/wp-content/uploads/2022/07/sports-package.jpg
END:VEVENT
BEGIN:VEVENT
DTSTART;TZID=America/New_York:20220911T170000
DTEND;TZID=America/New_York:20220911T230000
DTSTAMP:20260419T163237
CREATED:20220721T025110Z
LAST-MODIFIED:20220721T025110Z
UID:2450-1662915600-1662937200@keeperoftheflame.com
SUMMARY:Game Day On DirecTV
DESCRIPTION:Spend Game Day At The Bar
URL:https://keeperoftheflame.com/event/game-day-2-2022-09-11/
LOCATION:Keeper Of The Flame\, 2750 Conrad Ridge Road\, Holladay\, TN\, 38341\, United States
CATEGORIES:Sports
ATTACH;FMTTYPE=image/jpeg:https://keeperoftheflame.com/wp-content/uploads/2022/07/sports-package.jpg
END:VEVENT
BEGIN:VEVENT
DTSTART;TZID=America/New_York:20220910T190000
DTEND;TZID=America/New_York:20220910T220000
DTSTAMP:20260419T163237
CREATED:20220901T164544Z
LAST-MODIFIED:20220901T164547Z
UID:2959-1662836400-1662847200@keeperoftheflame.com
SUMMARY:Mykel Joe
DESCRIPTION:
URL:https://keeperoftheflame.com/event/mykel-joe/
CATEGORIES:LIve Music
ATTACH;FMTTYPE=image/jpeg:https://keeperoftheflame.com/wp-content/uploads/2022/07/lenox-creeek.jpg
END:VEVENT
BEGIN:VEVENT
DTSTART;TZID=America/New_York:20220908T170000
DTEND;TZID=America/New_York:20220908T230000
DTSTAMP:20260419T163237
CREATED:20220815T211244Z
LAST-MODIFIED:20220815T211244Z
UID:2627-1662656400-1662678000@keeperoftheflame.com
SUMMARY:Thirsty Thursdays
DESCRIPTION:$2 Draft Beers All Night
URL:https://keeperoftheflame.com/event/thirsty-thursdays-2022-09-08/
CATEGORIES:promotions
ATTACH;FMTTYPE=image/jpeg:https://keeperoftheflame.com/wp-content/uploads/2022/04/josh-olalde-Ygu9Qx309s-unsplash.jpg
END:VEVENT
BEGIN:VEVENT
DTSTART;TZID=America/New_York:20220905T170000
DTEND;TZID=America/New_York:20220905T230000
DTSTAMP:20260419T163237
CREATED:20220815T212125Z
LAST-MODIFIED:20220815T212125Z
UID:2710-1662397200-1662418800@keeperoftheflame.com
SUMMARY:Open Mic Mondays
DESCRIPTION:$2 Natty’s & Busch Beer from 5-7pm
URL:https://keeperoftheflame.com/event/open-mic-mondays-2022-09-05/
CATEGORIES:promotions
ATTACH;FMTTYPE=image/jpeg:https://keeperoftheflame.com/wp-content/uploads/2022/08/open-mic-1.jpeg
END:VEVENT
BEGIN:VEVENT
DTSTART;TZID=America/New_York:20220905T170000
DTEND;TZID=America/New_York:20220905T230000
DTSTAMP:20260419T163237
CREATED:20220721T025110Z
LAST-MODIFIED:20220721T025110Z
UID:2449-1662397200-1662418800@keeperoftheflame.com
SUMMARY:Game Day On DirecTV
DESCRIPTION:Spend Game Day At The Bar
URL:https://keeperoftheflame.com/event/game-day-2-2022-09-05/
LOCATION:Keeper Of The Flame\, 2750 Conrad Ridge Road\, Holladay\, TN\, 38341\, United States
CATEGORIES:Sports
ATTACH;FMTTYPE=image/jpeg:https://keeperoftheflame.com/wp-content/uploads/2022/07/sports-package.jpg
END:VEVENT
BEGIN:VEVENT
DTSTART;TZID=America/New_York:20220904T170000
DTEND;TZID=America/New_York:20220904T230000
DTSTAMP:20260419T163237
CREATED:20220721T025110Z
LAST-MODIFIED:20220721T025110Z
UID:2448-1662310800-1662332400@keeperoftheflame.com
SUMMARY:Game Day On DirecTV
DESCRIPTION:Spend Game Day At The Bar
URL:https://keeperoftheflame.com/event/game-day-2-2022-09-04/
LOCATION:Keeper Of The Flame\, 2750 Conrad Ridge Road\, Holladay\, TN\, 38341\, United States
CATEGORIES:Sports
ATTACH;FMTTYPE=image/jpeg:https://keeperoftheflame.com/wp-content/uploads/2022/07/sports-package.jpg
END:VEVENT
BEGIN:VEVENT
DTSTART;TZID=America/New_York:20220902T190000
DTEND;TZID=America/New_York:20220902T220000
DTSTAMP:20260419T163237
CREATED:20220901T164215Z
LAST-MODIFIED:20220901T164821Z
UID:2957-1662145200-1662156000@keeperoftheflame.com
SUMMARY:Mickey Daniel
DESCRIPTION:
URL:https://keeperoftheflame.com/event/mickey-daniel-4/
CATEGORIES:LIve Music
ATTACH;FMTTYPE=image/jpeg:https://keeperoftheflame.com/wp-content/uploads/2022/07/mickey-daniel.jpg
END:VEVENT
BEGIN:VEVENT
DTSTART;TZID=America/New_York:20220901T170000
DTEND;TZID=America/New_York:20220901T230000
DTSTAMP:20260419T163237
CREATED:20220815T211244Z
LAST-MODIFIED:20220815T211244Z
UID:2626-1662051600-1662073200@keeperoftheflame.com
SUMMARY:Thirsty Thursdays
DESCRIPTION:$2 Draft Beers All Night
URL:https://keeperoftheflame.com/event/thirsty-thursdays-2022-09-01/
CATEGORIES:promotions
ATTACH;FMTTYPE=image/jpeg:https://keeperoftheflame.com/wp-content/uploads/2022/04/josh-olalde-Ygu9Qx309s-unsplash.jpg
END:VEVENT
BEGIN:VEVENT
DTSTART;TZID=America/New_York:20220829T170000
DTEND;TZID=America/New_York:20220829T230000
DTSTAMP:20260419T163237
CREATED:20220815T212125Z
LAST-MODIFIED:20220815T212125Z
UID:2709-1661792400-1661814000@keeperoftheflame.com
SUMMARY:Open Mic Mondays
DESCRIPTION:$2 Natty’s & Busch Beer from 5-7pm
URL:https://keeperoftheflame.com/event/open-mic-mondays-2022-08-29/
CATEGORIES:promotions
ATTACH;FMTTYPE=image/jpeg:https://keeperoftheflame.com/wp-content/uploads/2022/08/open-mic-1.jpeg
END:VEVENT
BEGIN:VEVENT
DTSTART;TZID=America/New_York:20220829T170000
DTEND;TZID=America/New_York:20220829T230000
DTSTAMP:20260419T163237
CREATED:20220721T025110Z
LAST-MODIFIED:20220721T025110Z
UID:2447-1661792400-1661814000@keeperoftheflame.com
SUMMARY:Game Day On DirecTV
DESCRIPTION:Spend Game Day At The Bar
URL:https://keeperoftheflame.com/event/game-day-2-2022-08-29/
LOCATION:Keeper Of The Flame\, 2750 Conrad Ridge Road\, Holladay\, TN\, 38341\, United States
CATEGORIES:Sports
ATTACH;FMTTYPE=image/jpeg:https://keeperoftheflame.com/wp-content/uploads/2022/07/sports-package.jpg
END:VEVENT
BEGIN:VEVENT
DTSTART;TZID=America/New_York:20220828T170000
DTEND;TZID=America/New_York:20220828T230000
DTSTAMP:20260419T163237
CREATED:20220721T025110Z
LAST-MODIFIED:20220721T025110Z
UID:2446-1661706000-1661727600@keeperoftheflame.com
SUMMARY:Game Day On DirecTV
DESCRIPTION:Spend Game Day At The Bar
URL:https://keeperoftheflame.com/event/game-day-2-2022-08-28/
LOCATION:Keeper Of The Flame\, 2750 Conrad Ridge Road\, Holladay\, TN\, 38341\, United States
CATEGORIES:Sports
ATTACH;FMTTYPE=image/jpeg:https://keeperoftheflame.com/wp-content/uploads/2022/07/sports-package.jpg
END:VEVENT
BEGIN:VEVENT
DTSTART;TZID=America/New_York:20220826T180000
DTEND;TZID=America/New_York:20220826T220000
DTSTAMP:20260419T163237
CREATED:20220708T000535Z
LAST-MODIFIED:20220708T001544Z
UID:2201-1661536800-1661551200@keeperoftheflame.com
SUMMARY:Wade Hayes
DESCRIPTION:Get Tickets
URL:https://keeperoftheflame.com/event/wade-hayes/
CATEGORIES:LIve Music
ATTACH;FMTTYPE=image/jpeg:https://keeperoftheflame.com/wp-content/uploads/2022/07/Wade-Hayes.jpg
END:VEVENT
BEGIN:VEVENT
DTSTART;TZID=America/New_York:20220825T170000
DTEND;TZID=America/New_York:20220825T230000
DTSTAMP:20260419T163237
CREATED:20220815T211244Z
LAST-MODIFIED:20220815T211244Z
UID:2625-1661446800-1661468400@keeperoftheflame.com
SUMMARY:Thirsty Thursdays
DESCRIPTION:$2 Draft Beers All Night
URL:https://keeperoftheflame.com/event/thirsty-thursdays-2022-08-25/
CATEGORIES:promotions
ATTACH;FMTTYPE=image/jpeg:https://keeperoftheflame.com/wp-content/uploads/2022/04/josh-olalde-Ygu9Qx309s-unsplash.jpg
END:VEVENT
BEGIN:VEVENT
DTSTART;TZID=America/New_York:20220822T170000
DTEND;TZID=America/New_York:20220822T230000
DTSTAMP:20260419T163237
CREATED:20220815T212125Z
LAST-MODIFIED:20220815T212125Z
UID:2708-1661187600-1661209200@keeperoftheflame.com
SUMMARY:Open Mic Mondays
DESCRIPTION:$2 Natty’s & Busch Beer from 5-7pm
URL:https://keeperoftheflame.com/event/open-mic-mondays-2022-08-22/
CATEGORIES:promotions
ATTACH;FMTTYPE=image/jpeg:https://keeperoftheflame.com/wp-content/uploads/2022/08/open-mic-1.jpeg
END:VEVENT
END:VCALENDAR