BEGIN:VCALENDAR
VERSION:2.0
PRODID:-//Keeper Of The Flame - ECPv6.15.20//NONSGML v1.0//EN
CALSCALE:GREGORIAN
METHOD:PUBLISH
X-WR-CALNAME:Keeper Of The Flame
X-ORIGINAL-URL:https://keeperoftheflame.com
X-WR-CALDESC:Events for Keeper Of The Flame
REFRESH-INTERVAL;VALUE=DURATION:PT1H
X-Robots-Tag:noindex
X-PUBLISHED-TTL:PT1H
BEGIN:VTIMEZONE
TZID:America/New_York
BEGIN:DAYLIGHT
TZOFFSETFROM:-0500
TZOFFSETTO:-0400
TZNAME:EDT
DTSTART:20240310T070000
END:DAYLIGHT
BEGIN:STANDARD
TZOFFSETFROM:-0400
TZOFFSETTO:-0500
TZNAME:EST
DTSTART:20241103T060000
END:STANDARD
BEGIN:DAYLIGHT
TZOFFSETFROM:-0500
TZOFFSETTO:-0400
TZNAME:EDT
DTSTART:20250309T070000
END:DAYLIGHT
BEGIN:STANDARD
TZOFFSETFROM:-0400
TZOFFSETTO:-0500
TZNAME:EST
DTSTART:20251102T060000
END:STANDARD
BEGIN:DAYLIGHT
TZOFFSETFROM:-0500
TZOFFSETTO:-0400
TZNAME:EDT
DTSTART:20260308T070000
END:DAYLIGHT
BEGIN:STANDARD
TZOFFSETFROM:-0400
TZOFFSETTO:-0500
TZNAME:EST
DTSTART:20261101T060000
END:STANDARD
END:VTIMEZONE
BEGIN:VEVENT
DTSTART;TZID=America/New_York:20250130T170000
DTEND;TZID=America/New_York:20250130T230000
DTSTAMP:20260419T105849
CREATED:20220815T211244Z
LAST-MODIFIED:20220815T211244Z
UID:3049-1738256400-1738278000@keeperoftheflame.com
SUMMARY:Thirsty Thursdays
DESCRIPTION:$2 Draft Beers All Night
URL:https://keeperoftheflame.com/event/thirsty-thursdays-2025-01-30/
CATEGORIES:promotions
ATTACH;FMTTYPE=image/jpeg:https://keeperoftheflame.com/wp-content/uploads/2022/04/josh-olalde-Ygu9Qx309s-unsplash.jpg
END:VEVENT
BEGIN:VEVENT
DTSTART;TZID=America/New_York:20250202T170000
DTEND;TZID=America/New_York:20250202T230000
DTSTAMP:20260419T105849
CREATED:20220721T025110Z
LAST-MODIFIED:20220721T025110Z
UID:3050-1738515600-1738537200@keeperoftheflame.com
SUMMARY:Game Day On DirecTV
DESCRIPTION:Spend Game Day At The Bar
URL:https://keeperoftheflame.com/event/game-day-2-2025-02-02/
LOCATION:Keeper Of The Flame\, 2750 Conrad Ridge Road\, Holladay\, TN\, 38341\, United States
CATEGORIES:Sports
ATTACH;FMTTYPE=image/jpeg:https://keeperoftheflame.com/wp-content/uploads/2022/07/sports-package.jpg
END:VEVENT
BEGIN:VEVENT
DTSTART;TZID=America/New_York:20250203T170000
DTEND;TZID=America/New_York:20250203T230000
DTSTAMP:20260419T105849
CREATED:20220721T025110Z
LAST-MODIFIED:20220721T025110Z
UID:3052-1738602000-1738623600@keeperoftheflame.com
SUMMARY:Game Day On DirecTV
DESCRIPTION:Spend Game Day At The Bar
URL:https://keeperoftheflame.com/event/game-day-2-2025-02-03/
LOCATION:Keeper Of The Flame\, 2750 Conrad Ridge Road\, Holladay\, TN\, 38341\, United States
CATEGORIES:Sports
ATTACH;FMTTYPE=image/jpeg:https://keeperoftheflame.com/wp-content/uploads/2022/07/sports-package.jpg
END:VEVENT
BEGIN:VEVENT
DTSTART;TZID=America/New_York:20250203T170000
DTEND;TZID=America/New_York:20250203T230000
DTSTAMP:20260419T105849
CREATED:20220815T212125Z
LAST-MODIFIED:20220815T212125Z
UID:3051-1738602000-1738623600@keeperoftheflame.com
SUMMARY:Open Mic Mondays
DESCRIPTION:$2 Natty’s & Busch Beer from 5-7pm
URL:https://keeperoftheflame.com/event/open-mic-mondays-2025-02-03/
CATEGORIES:promotions
ATTACH;FMTTYPE=image/jpeg:https://keeperoftheflame.com/wp-content/uploads/2022/08/open-mic-1.jpeg
END:VEVENT
BEGIN:VEVENT
DTSTART;TZID=America/New_York:20250206T170000
DTEND;TZID=America/New_York:20250206T230000
DTSTAMP:20260419T105849
CREATED:20220815T211244Z
LAST-MODIFIED:20220815T211244Z
UID:3053-1738861200-1738882800@keeperoftheflame.com
SUMMARY:Thirsty Thursdays
DESCRIPTION:$2 Draft Beers All Night
URL:https://keeperoftheflame.com/event/thirsty-thursdays-2025-02-06/
CATEGORIES:promotions
ATTACH;FMTTYPE=image/jpeg:https://keeperoftheflame.com/wp-content/uploads/2022/04/josh-olalde-Ygu9Qx309s-unsplash.jpg
END:VEVENT
BEGIN:VEVENT
DTSTART;TZID=America/New_York:20250209T170000
DTEND;TZID=America/New_York:20250209T230000
DTSTAMP:20260419T105849
CREATED:20220721T025110Z
LAST-MODIFIED:20220721T025110Z
UID:3054-1739120400-1739142000@keeperoftheflame.com
SUMMARY:Game Day On DirecTV
DESCRIPTION:Spend Game Day At The Bar
URL:https://keeperoftheflame.com/event/game-day-2-2025-02-09/
LOCATION:Keeper Of The Flame\, 2750 Conrad Ridge Road\, Holladay\, TN\, 38341\, United States
CATEGORIES:Sports
ATTACH;FMTTYPE=image/jpeg:https://keeperoftheflame.com/wp-content/uploads/2022/07/sports-package.jpg
END:VEVENT
BEGIN:VEVENT
DTSTART;TZID=America/New_York:20250210T170000
DTEND;TZID=America/New_York:20250210T230000
DTSTAMP:20260419T105849
CREATED:20220721T025110Z
LAST-MODIFIED:20220721T025110Z
UID:3056-1739206800-1739228400@keeperoftheflame.com
SUMMARY:Game Day On DirecTV
DESCRIPTION:Spend Game Day At The Bar
URL:https://keeperoftheflame.com/event/game-day-2-2025-02-10/
LOCATION:Keeper Of The Flame\, 2750 Conrad Ridge Road\, Holladay\, TN\, 38341\, United States
CATEGORIES:Sports
ATTACH;FMTTYPE=image/jpeg:https://keeperoftheflame.com/wp-content/uploads/2022/07/sports-package.jpg
END:VEVENT
BEGIN:VEVENT
DTSTART;TZID=America/New_York:20250210T170000
DTEND;TZID=America/New_York:20250210T230000
DTSTAMP:20260419T105849
CREATED:20220815T212125Z
LAST-MODIFIED:20220815T212125Z
UID:3055-1739206800-1739228400@keeperoftheflame.com
SUMMARY:Open Mic Mondays
DESCRIPTION:$2 Natty’s & Busch Beer from 5-7pm
URL:https://keeperoftheflame.com/event/open-mic-mondays-2025-02-10/
CATEGORIES:promotions
ATTACH;FMTTYPE=image/jpeg:https://keeperoftheflame.com/wp-content/uploads/2022/08/open-mic-1.jpeg
END:VEVENT
BEGIN:VEVENT
DTSTART;TZID=America/New_York:20250213T170000
DTEND;TZID=America/New_York:20250213T230000
DTSTAMP:20260419T105849
CREATED:20220815T211244Z
LAST-MODIFIED:20220815T211244Z
UID:3057-1739466000-1739487600@keeperoftheflame.com
SUMMARY:Thirsty Thursdays
DESCRIPTION:$2 Draft Beers All Night
URL:https://keeperoftheflame.com/event/thirsty-thursdays-2025-02-13/
CATEGORIES:promotions
ATTACH;FMTTYPE=image/jpeg:https://keeperoftheflame.com/wp-content/uploads/2022/04/josh-olalde-Ygu9Qx309s-unsplash.jpg
END:VEVENT
BEGIN:VEVENT
DTSTART;TZID=America/New_York:20250216T170000
DTEND;TZID=America/New_York:20250216T230000
DTSTAMP:20260419T105849
CREATED:20220721T025110Z
LAST-MODIFIED:20220721T025110Z
UID:3058-1739725200-1739746800@keeperoftheflame.com
SUMMARY:Game Day On DirecTV
DESCRIPTION:Spend Game Day At The Bar
URL:https://keeperoftheflame.com/event/game-day-2-2025-02-16/
LOCATION:Keeper Of The Flame\, 2750 Conrad Ridge Road\, Holladay\, TN\, 38341\, United States
CATEGORIES:Sports
ATTACH;FMTTYPE=image/jpeg:https://keeperoftheflame.com/wp-content/uploads/2022/07/sports-package.jpg
END:VEVENT
BEGIN:VEVENT
DTSTART;TZID=America/New_York:20250217T170000
DTEND;TZID=America/New_York:20250217T230000
DTSTAMP:20260419T105849
CREATED:20220721T025110Z
LAST-MODIFIED:20220721T025110Z
UID:3060-1739811600-1739833200@keeperoftheflame.com
SUMMARY:Game Day On DirecTV
DESCRIPTION:Spend Game Day At The Bar
URL:https://keeperoftheflame.com/event/game-day-2-2025-02-17/
LOCATION:Keeper Of The Flame\, 2750 Conrad Ridge Road\, Holladay\, TN\, 38341\, United States
CATEGORIES:Sports
ATTACH;FMTTYPE=image/jpeg:https://keeperoftheflame.com/wp-content/uploads/2022/07/sports-package.jpg
END:VEVENT
BEGIN:VEVENT
DTSTART;TZID=America/New_York:20250217T170000
DTEND;TZID=America/New_York:20250217T230000
DTSTAMP:20260419T105849
CREATED:20220815T212125Z
LAST-MODIFIED:20220815T212125Z
UID:3059-1739811600-1739833200@keeperoftheflame.com
SUMMARY:Open Mic Mondays
DESCRIPTION:$2 Natty’s & Busch Beer from 5-7pm
URL:https://keeperoftheflame.com/event/open-mic-mondays-2025-02-17/
CATEGORIES:promotions
ATTACH;FMTTYPE=image/jpeg:https://keeperoftheflame.com/wp-content/uploads/2022/08/open-mic-1.jpeg
END:VEVENT
BEGIN:VEVENT
DTSTART;TZID=America/New_York:20250220T170000
DTEND;TZID=America/New_York:20250220T230000
DTSTAMP:20260419T105849
CREATED:20220815T211244Z
LAST-MODIFIED:20220815T211244Z
UID:3061-1740070800-1740092400@keeperoftheflame.com
SUMMARY:Thirsty Thursdays
DESCRIPTION:$2 Draft Beers All Night
URL:https://keeperoftheflame.com/event/thirsty-thursdays-2025-02-20/
CATEGORIES:promotions
ATTACH;FMTTYPE=image/jpeg:https://keeperoftheflame.com/wp-content/uploads/2022/04/josh-olalde-Ygu9Qx309s-unsplash.jpg
END:VEVENT
BEGIN:VEVENT
DTSTART;TZID=America/New_York:20250223T170000
DTEND;TZID=America/New_York:20250223T230000
DTSTAMP:20260419T105849
CREATED:20220721T025110Z
LAST-MODIFIED:20220721T025110Z
UID:3063-1740330000-1740351600@keeperoftheflame.com
SUMMARY:Game Day On DirecTV
DESCRIPTION:Spend Game Day At The Bar
URL:https://keeperoftheflame.com/event/game-day-2-2025-02-23/
LOCATION:Keeper Of The Flame\, 2750 Conrad Ridge Road\, Holladay\, TN\, 38341\, United States
CATEGORIES:Sports
ATTACH;FMTTYPE=image/jpeg:https://keeperoftheflame.com/wp-content/uploads/2022/07/sports-package.jpg
END:VEVENT
BEGIN:VEVENT
DTSTART;TZID=America/New_York:20250224T170000
DTEND;TZID=America/New_York:20250224T230000
DTSTAMP:20260419T105849
CREATED:20220721T025110Z
LAST-MODIFIED:20220721T025110Z
UID:3064-1740416400-1740438000@keeperoftheflame.com
SUMMARY:Game Day On DirecTV
DESCRIPTION:Spend Game Day At The Bar
URL:https://keeperoftheflame.com/event/game-day-2-2025-02-24/
LOCATION:Keeper Of The Flame\, 2750 Conrad Ridge Road\, Holladay\, TN\, 38341\, United States
CATEGORIES:Sports
ATTACH;FMTTYPE=image/jpeg:https://keeperoftheflame.com/wp-content/uploads/2022/07/sports-package.jpg
END:VEVENT
BEGIN:VEVENT
DTSTART;TZID=America/New_York:20250224T170000
DTEND;TZID=America/New_York:20250224T230000
DTSTAMP:20260419T105849
CREATED:20220815T212125Z
LAST-MODIFIED:20220815T212125Z
UID:3062-1740416400-1740438000@keeperoftheflame.com
SUMMARY:Open Mic Mondays
DESCRIPTION:$2 Natty’s & Busch Beer from 5-7pm
URL:https://keeperoftheflame.com/event/open-mic-mondays-2025-02-24/
CATEGORIES:promotions
ATTACH;FMTTYPE=image/jpeg:https://keeperoftheflame.com/wp-content/uploads/2022/08/open-mic-1.jpeg
END:VEVENT
BEGIN:VEVENT
DTSTART;TZID=America/New_York:20250227T170000
DTEND;TZID=America/New_York:20250227T230000
DTSTAMP:20260419T105849
CREATED:20220815T211244Z
LAST-MODIFIED:20220815T211244Z
UID:3065-1740675600-1740697200@keeperoftheflame.com
SUMMARY:Thirsty Thursdays
DESCRIPTION:$2 Draft Beers All Night
URL:https://keeperoftheflame.com/event/thirsty-thursdays-2025-02-27/
CATEGORIES:promotions
ATTACH;FMTTYPE=image/jpeg:https://keeperoftheflame.com/wp-content/uploads/2022/04/josh-olalde-Ygu9Qx309s-unsplash.jpg
END:VEVENT
BEGIN:VEVENT
DTSTART;TZID=America/New_York:20250302T170000
DTEND;TZID=America/New_York:20250302T230000
DTSTAMP:20260419T105849
CREATED:20220721T025110Z
LAST-MODIFIED:20220721T025110Z
UID:3066-1740934800-1740956400@keeperoftheflame.com
SUMMARY:Game Day On DirecTV
DESCRIPTION:Spend Game Day At The Bar
URL:https://keeperoftheflame.com/event/game-day-2-2025-03-02/
LOCATION:Keeper Of The Flame\, 2750 Conrad Ridge Road\, Holladay\, TN\, 38341\, United States
CATEGORIES:Sports
ATTACH;FMTTYPE=image/jpeg:https://keeperoftheflame.com/wp-content/uploads/2022/07/sports-package.jpg
END:VEVENT
BEGIN:VEVENT
DTSTART;TZID=America/New_York:20250303T170000
DTEND;TZID=America/New_York:20250303T230000
DTSTAMP:20260419T105849
CREATED:20220721T025110Z
LAST-MODIFIED:20220721T025110Z
UID:3068-1741021200-1741042800@keeperoftheflame.com
SUMMARY:Game Day On DirecTV
DESCRIPTION:Spend Game Day At The Bar
URL:https://keeperoftheflame.com/event/game-day-2-2025-03-03/
LOCATION:Keeper Of The Flame\, 2750 Conrad Ridge Road\, Holladay\, TN\, 38341\, United States
CATEGORIES:Sports
ATTACH;FMTTYPE=image/jpeg:https://keeperoftheflame.com/wp-content/uploads/2022/07/sports-package.jpg
END:VEVENT
BEGIN:VEVENT
DTSTART;TZID=America/New_York:20250303T170000
DTEND;TZID=America/New_York:20250303T230000
DTSTAMP:20260419T105849
CREATED:20220815T212125Z
LAST-MODIFIED:20220815T212125Z
UID:3067-1741021200-1741042800@keeperoftheflame.com
SUMMARY:Open Mic Mondays
DESCRIPTION:$2 Natty’s & Busch Beer from 5-7pm
URL:https://keeperoftheflame.com/event/open-mic-mondays-2025-03-03/
CATEGORIES:promotions
ATTACH;FMTTYPE=image/jpeg:https://keeperoftheflame.com/wp-content/uploads/2022/08/open-mic-1.jpeg
END:VEVENT
BEGIN:VEVENT
DTSTART;TZID=America/New_York:20250306T170000
DTEND;TZID=America/New_York:20250306T230000
DTSTAMP:20260419T105849
CREATED:20220815T211244Z
LAST-MODIFIED:20220815T211244Z
UID:3069-1741280400-1741302000@keeperoftheflame.com
SUMMARY:Thirsty Thursdays
DESCRIPTION:$2 Draft Beers All Night
URL:https://keeperoftheflame.com/event/thirsty-thursdays-2025-03-06/
CATEGORIES:promotions
ATTACH;FMTTYPE=image/jpeg:https://keeperoftheflame.com/wp-content/uploads/2022/04/josh-olalde-Ygu9Qx309s-unsplash.jpg
END:VEVENT
BEGIN:VEVENT
DTSTART;TZID=America/New_York:20250309T170000
DTEND;TZID=America/New_York:20250309T230000
DTSTAMP:20260419T105849
CREATED:20220721T025110Z
LAST-MODIFIED:20220721T025110Z
UID:3070-1741539600-1741561200@keeperoftheflame.com
SUMMARY:Game Day On DirecTV
DESCRIPTION:Spend Game Day At The Bar
URL:https://keeperoftheflame.com/event/game-day-2-2025-03-09/
LOCATION:Keeper Of The Flame\, 2750 Conrad Ridge Road\, Holladay\, TN\, 38341\, United States
CATEGORIES:Sports
ATTACH;FMTTYPE=image/jpeg:https://keeperoftheflame.com/wp-content/uploads/2022/07/sports-package.jpg
END:VEVENT
BEGIN:VEVENT
DTSTART;TZID=America/New_York:20250310T170000
DTEND;TZID=America/New_York:20250310T230000
DTSTAMP:20260419T105849
CREATED:20220721T025110Z
LAST-MODIFIED:20220721T025110Z
UID:3072-1741626000-1741647600@keeperoftheflame.com
SUMMARY:Game Day On DirecTV
DESCRIPTION:Spend Game Day At The Bar
URL:https://keeperoftheflame.com/event/game-day-2-2025-03-10/
LOCATION:Keeper Of The Flame\, 2750 Conrad Ridge Road\, Holladay\, TN\, 38341\, United States
CATEGORIES:Sports
ATTACH;FMTTYPE=image/jpeg:https://keeperoftheflame.com/wp-content/uploads/2022/07/sports-package.jpg
END:VEVENT
BEGIN:VEVENT
DTSTART;TZID=America/New_York:20250310T170000
DTEND;TZID=America/New_York:20250310T230000
DTSTAMP:20260419T105849
CREATED:20220815T212125Z
LAST-MODIFIED:20220815T212125Z
UID:3071-1741626000-1741647600@keeperoftheflame.com
SUMMARY:Open Mic Mondays
DESCRIPTION:$2 Natty’s & Busch Beer from 5-7pm
URL:https://keeperoftheflame.com/event/open-mic-mondays-2025-03-10/
CATEGORIES:promotions
ATTACH;FMTTYPE=image/jpeg:https://keeperoftheflame.com/wp-content/uploads/2022/08/open-mic-1.jpeg
END:VEVENT
BEGIN:VEVENT
DTSTART;TZID=America/New_York:20250313T170000
DTEND;TZID=America/New_York:20250313T230000
DTSTAMP:20260419T105849
CREATED:20220815T211244Z
LAST-MODIFIED:20220815T211244Z
UID:3073-1741885200-1741906800@keeperoftheflame.com
SUMMARY:Thirsty Thursdays
DESCRIPTION:$2 Draft Beers All Night
URL:https://keeperoftheflame.com/event/thirsty-thursdays-2025-03-13/
CATEGORIES:promotions
ATTACH;FMTTYPE=image/jpeg:https://keeperoftheflame.com/wp-content/uploads/2022/04/josh-olalde-Ygu9Qx309s-unsplash.jpg
END:VEVENT
BEGIN:VEVENT
DTSTART;TZID=America/New_York:20250316T170000
DTEND;TZID=America/New_York:20250316T230000
DTSTAMP:20260419T105849
CREATED:20220721T025110Z
LAST-MODIFIED:20220721T025110Z
UID:3074-1742144400-1742166000@keeperoftheflame.com
SUMMARY:Game Day On DirecTV
DESCRIPTION:Spend Game Day At The Bar
URL:https://keeperoftheflame.com/event/game-day-2-2025-03-16/
LOCATION:Keeper Of The Flame\, 2750 Conrad Ridge Road\, Holladay\, TN\, 38341\, United States
CATEGORIES:Sports
ATTACH;FMTTYPE=image/jpeg:https://keeperoftheflame.com/wp-content/uploads/2022/07/sports-package.jpg
END:VEVENT
BEGIN:VEVENT
DTSTART;TZID=America/New_York:20250317T170000
DTEND;TZID=America/New_York:20250317T230000
DTSTAMP:20260419T105849
CREATED:20220721T025110Z
LAST-MODIFIED:20220721T025110Z
UID:3076-1742230800-1742252400@keeperoftheflame.com
SUMMARY:Game Day On DirecTV
DESCRIPTION:Spend Game Day At The Bar
URL:https://keeperoftheflame.com/event/game-day-2-2025-03-17/
LOCATION:Keeper Of The Flame\, 2750 Conrad Ridge Road\, Holladay\, TN\, 38341\, United States
CATEGORIES:Sports
ATTACH;FMTTYPE=image/jpeg:https://keeperoftheflame.com/wp-content/uploads/2022/07/sports-package.jpg
END:VEVENT
BEGIN:VEVENT
DTSTART;TZID=America/New_York:20250317T170000
DTEND;TZID=America/New_York:20250317T230000
DTSTAMP:20260419T105849
CREATED:20220815T212125Z
LAST-MODIFIED:20220815T212125Z
UID:3075-1742230800-1742252400@keeperoftheflame.com
SUMMARY:Open Mic Mondays
DESCRIPTION:$2 Natty’s & Busch Beer from 5-7pm
URL:https://keeperoftheflame.com/event/open-mic-mondays-2025-03-17/
CATEGORIES:promotions
ATTACH;FMTTYPE=image/jpeg:https://keeperoftheflame.com/wp-content/uploads/2022/08/open-mic-1.jpeg
END:VEVENT
BEGIN:VEVENT
DTSTART;TZID=America/New_York:20250320T170000
DTEND;TZID=America/New_York:20250320T230000
DTSTAMP:20260419T105849
CREATED:20220815T211244Z
LAST-MODIFIED:20220815T211244Z
UID:3077-1742490000-1742511600@keeperoftheflame.com
SUMMARY:Thirsty Thursdays
DESCRIPTION:$2 Draft Beers All Night
URL:https://keeperoftheflame.com/event/thirsty-thursdays-2025-03-20/
CATEGORIES:promotions
ATTACH;FMTTYPE=image/jpeg:https://keeperoftheflame.com/wp-content/uploads/2022/04/josh-olalde-Ygu9Qx309s-unsplash.jpg
END:VEVENT
BEGIN:VEVENT
DTSTART;TZID=America/New_York:20250323T170000
DTEND;TZID=America/New_York:20250323T230000
DTSTAMP:20260419T105849
CREATED:20220721T025110Z
LAST-MODIFIED:20220721T025110Z
UID:3078-1742749200-1742770800@keeperoftheflame.com
SUMMARY:Game Day On DirecTV
DESCRIPTION:Spend Game Day At The Bar
URL:https://keeperoftheflame.com/event/game-day-2-2025-03-23/
LOCATION:Keeper Of The Flame\, 2750 Conrad Ridge Road\, Holladay\, TN\, 38341\, United States
CATEGORIES:Sports
ATTACH;FMTTYPE=image/jpeg:https://keeperoftheflame.com/wp-content/uploads/2022/07/sports-package.jpg
END:VEVENT
END:VCALENDAR